Workbook
Name female08: basis!$C$6
Name female10: basis!$C$12
Name female100: basis!$C$11
Name female1000: basis!$C$10
Name female67: basis!$C$5
Name femaleTable: female!$A$2:$J$112
Name i_: basis!$B$1
Name male08: basis!$B$6
Name male10: basis!$B$12
Name male100: basis!$B$11
Name male1000: basis!$B$10
Name male64: basis!$B$5
Name maleTable: male!$A$2:$J$112

Sheet basis
A1: interest | B1: 0.04
A3: life expectancy rule of thumb
B4: male | C4: female
A5: LE of 20 at age | B5: 64 | C5: 67
A6: loss of LE per year | B6: 0.8 | C6: 0.8
A8: qx rule of thumb
A9: 1 / qx | B9: male | C9: female
A10: 1000 | B10: 34 | C10: 40
A11: 100 | B11: 62 | C11: 67
A12: 10 | B12: 85 | C12: 87

Sheet male
A1: x | B1: lx | C1: qx | D1: RoT qx | E1: ln qx | F1: ln RoT qx | G1: ax | H1: Ax | I1: ex | J1: RoT ex
A2: 0 | B2: 100000 | C2: =(B2-B3)/B2 -> 0.004224 | D2: =IF(male!A2<=male100,1/100 * 10 ^ ((male!A2-male100)/(male100-male1000)),1/100 * 10 ^ ((male!A2-male100)/(male10-male100))) -> 6.1054023e-05 | E2: =LN(C2)/LN(10) -> -2.3742761 | F2: =LN(D2)/LN(10) -> -4.2142857 | G2: =1 + G3/(1+i_) * (1-C2) -> 24.518819 | H2: =C2/(1+i_) + (1-C2) * H3 / (1+i_) -> 0.056968486 | I2: =(I3+1)*(1-C2)+ 0.5 * C2 -> 79.03938 | J2: =20+male08*(male64-male!A2) -> 71.2
A3: 1 | B3: 99577.6 | C3: =(B3-B4)/B3 -> 0.00022896716 | D3: =IF(male!A3<=male100,1/100 * 10 ^ ((male!A3-male100)/(male100-male1000)),1/100 * 10 ^ ((male!A3-male100)/(male10-male100))) -> 6.6287032e-05 | E3: =LN(C3)/LN(10) -> -3.6402268 | F3: =LN(D3)/LN(10) -> -4.1785714 | G3: =1 + G4/(1+i_) * (1-C3) -> 24.563328 | H3: =C3/(1+i_) + (1-C3) * H4 / (1+i_) -> 0.05525663 | I3: =(I4+1)*(1-C3)+ 0.5 * C3 -> 78.372538 | J3: =20+male08*(male64-male!A3) -> 70.4
A4: 2 | B4: 99554.8 | C4: =(B4-B5)/B4 -> 0.00012656346 | D4: =IF(male!A4<=male100,1/100 * 10 ^ ((male!A4-male100)/(male100-male1000)),1/100 * 10 ^ ((male!A4-male100)/(male10-male100))) -> 7.1968567e-05 | E4: =LN(C4)/LN(10) -> -3.8976917 | F4: =LN(D4)/LN(10) -> -4.1428571 | G4: =1 + G5/(1+i_) * (1-C4) -> 24.511473 | H4: =C4/(1+i_) + (1-C4) * H5 / (1+i_) -> 0.057251037 | I4: =(I5+1)*(1-C4)+ 0.5 * C4 -> 77.390372 | J4: =20+male08*(male64-male!A4) -> 69.6
A5: 3 | B5: 99542.2 | C5: =(B5-B6)/B5 -> 0.0001024691 | D5: =IF(male!A5<=male100,1/100 * 10 ^ ((male!A5-male100)/(male100-male1000)),1/100 * 10 ^ ((male!A5-male100)/(male10-male100))) -> 7.8137074e-05 | E5: =LN(C5)/LN(10) -> -3.9894071 | F5: =LN(D5)/LN(10) -> -4.1071429 | G5: =1 + G6/(1+i_) * (1-C5) -> 24.455027 | H5: =C5/(1+i_) + (1-C5) * H6 / (1+i_) -> 0.059422035 | I5: =(I6+1)*(1-C5)+ 0.5 * C5 -> 76.400105 | J5: =20+male08*(male64-male!A5) -> 68.8
A6: 4 | B6: 99532 | C6: =(B6-B7)/B6 -> 8.539967e-05 | D6: =IF(male!A6<=male100,1/100 * 10 ^ ((male!A6-male100)/(male100-male1000)),1/100 * 10 ^ ((male!A6-male100)/(male10-male100))) -> 8.483429e-05 | E6: =LN(C6)/LN(10) -> -4.0685438 | F6: =LN(D6)/LN(10) -> -4.0714286 | G6: =1 + G7/(1+i_) * (1-C6) -> 24.395728 | H6: =C6/(1+i_) + (1-C6) * H7 / (1+i_) -> 0.06170277 | I6: =(I7+1)*(1-C6)+ 0.5 * C6 -> 75.407883 | J6: =20+male08*(male64-male!A6) -> 68
A7: 5 | B7: 99523.5 | C7: =(B7-B8)/B7 -> 7.4354298e-05 | D7: =IF(male!A7<=male100,1/100 * 10 ^ ((male!A7-male100)/(male100-male1000)),1/100 * 10 ^ ((male!A7-male100)/(male10-male100))) -> 9.2105532e-05 | E7: =LN(C7)/LN(10) -> -4.1286939 | F7: =LN(D7)/LN(10) -> -4.0357143 | G7: =1 + G8/(1+i_) * (1-C7) -> 24.333635 | H7: =C7/(1+i_) + (1-C7) * H8 / (1+i_) -> 0.064090955 | I7: =(I8+1)*(1-C7)+ 0.5 * C7 -> 74.414281 | J7: =20+male08*(male64-male!A7) -> 67.2
A8: 6 | B8: 99516.1 | C8: =(B8-B9)/B8 -> 8.5413315e-05 | D8: =IF(male!A8<=male100,1/100 * 10 ^ ((male!A8-male100)/(male100-male1000)),1/100 * 10 ^ ((male!A8-male100)/(male10-male100))) -> 0.0001 | E8: =LN(C8)/LN(10) -> -4.0684744 | F8: =LN(D8)/LN(10) -> -4 | G8: =1 + G9/(1+i_) * (1-C8) -> 24.268785 | H8: =C8/(1+i_) + (1-C8) * H9 / (1+i_) -> 0.066585189 | I8: =(I9+1)*(1-C8)+ 0.5 * C8 -> 73.419777 | J8: =20+male08*(male64-male!A8) -> 66.4
A9: 7 | B9: 99507.6 | C9: =(B9-B10)/B9 -> 6.6326592e-05 | D9: =IF(male!A9<=male100,1/100 * 10 ^ ((male!A9-male100)/(male100-male1000)),1/100 * 10 ^ ((male!A9-male100)/(male10-male100))) -> 0.00010857111 | E9: =LN(C9)/LN(10) -> -4.1783123 | F9: =LN(D9)/LN(10) -> -3.9642857 | G9: =1 + G10/(1+i_) * (1-C9) -> 24.201604 | H9: =C9/(1+i_) + (1-C9) * H10 / (1+i_) -> 0.069169092 | I9: =(I10+1)*(1-C9)+ 0.5 * C9 -> 72.426006 | J9: =20+male08*(male64-male!A9) -> 65.6
A10: 8 | B10: 99501 | C10: =(B10-B11)/B10 -> 6.9346037e-05 | D10: =IF(male!A10<=male100,1/100 * 10 ^ ((male!A10-male100)/(male100-male1000)),1/100 * 10 ^ ((male!A10-male100)/(male10-male100))) -> 0.00011787686 | E10: =LN(C10)/LN(10) -> -4.1589784 | F10: =LN(D10)/LN(10) -> -3.9285714 | G10: =1 + G11/(1+i_) * (1-C10) -> 24.131268 | H10: =C10/(1+i_) + (1-C10) * H11 / (1+i_) -> 0.071874296 | I10: =(I11+1)*(1-C10)+ 0.5 * C10 -> 71.430777 | J10: =20+male08*(male64-male!A10) -> 64.8
A11: 9 | B11: 99494.1 | C11: =(B11-B12)/B11 -> 5.9299999e-05 | D11: =IF(male!A11<=male100,1/100 * 10 ^ ((male!A11-male100)/(male100-male1000)),1/100 * 10 ^ ((male!A11-male100)/(male10-male100))) -> 0.00012798022 | E11: =LN(C11)/LN(10) -> -4.2269453 | F11: =LN(D11)/LN(10) -> -3.8928571 | G11: =1 + G12/(1+i_) * (1-C11) -> 24.058187 | H11: =C11/(1+i_) + (1-C11) * H12 / (1+i_) -> 0.074685101 | I11: =(I12+1)*(1-C11)+ 0.5 * C11 -> 70.435696 | J11: =20+male08*(male64-male!A11) -> 64
A12: 10 | B12: 99488.2 | C12: =(B12-B13)/B12 -> 7.8401258e-05 | D12: =IF(male!A12<=male100,1/100 * 10 ^ ((male!A12-male100)/(male100-male1000)),1/100 * 10 ^ ((male!A12-male100)/(male10-male100))) -> 0.00013894955 | E12: =LN(C12)/LN(10) -> -4.105677 | F12: =LN(D12)/LN(10) -> -3.8571429 | G12: =1 + G13/(1+i_) * (1-C12) -> 23.981937 | H12: =C12/(1+i_) + (1-C12) * H13 / (1+i_) -> 0.077617808 | I12: =(I13+1)*(1-C12)+ 0.5 * C12 -> 69.439843 | J12: =20+male08*(male64-male!A12) -> 63.2
A13: 11 | B13: 99480.4 | C13: =(B13-B14)/B13 -> 7.7402182e-05 | D13: =IF(male!A13<=male100,1/100 * 10 ^ ((male!A13-male100)/(male100-male1000)),1/100 * 10 ^ ((male!A13-male100)/(male10-male100))) -> 0.00015085907 | E13: =LN(C13)/LN(10) -> -4.1112468 | F13: =LN(D13)/LN(10) -> -3.8214286 | G13: =1 + G14/(1+i_) * (1-C13) -> 23.903089 | H13: =C13/(1+i_) + (1-C13) * H14 / (1+i_) -> 0.080650442 | I13: =(I14+1)*(1-C13)+ 0.5 * C13 -> 68.445249 | J13: =20+male08*(male64-male!A13) -> 62.4
... A101: 99 | B101: 1558.2 | C101: =(B101-B102)/B101 -> 0.36997818 | D101: =IF(male!A101<=male100,1/100 * 10 ^ ((male!A101-male100)/(male100-male1000)),1/100 * 10 ^ ((male!A101-male100)/(male10-male100))) -> 0.4061586 | E101: =LN(C101)/LN(10) -> -0.43182389 | F101: =LN(D101)/LN(10) -> -0.39130435 | G101: =1 + G102/(1+i_) * (1-C101) -> 2.2806575 | H101: =C101/(1+i_) + (1-C101) * H102 / (1+i_) -> 0.9122824 | I101: =(I102+1)*(1-C101)+ 0.5 * C101 -> 1.8850734 | J101: =20+male08*(male64-male!A101) -> -8
A102: 100 | B102: 981.7 | C102: =C101*C101/C100 -> 0.4080068 | D102: =IF(male!A102<=male100,1/100 * 10 ^ ((male!A102-male100)/(male100-male1000)),1/100 * 10 ^ ((male!A102-male100)/(male10-male100))) -> 0.44892513 | E102: =LN(C102)/LN(10) -> -0.3893326 | F102: =LN(D102)/LN(10) -> -0.34782609 | G102: =1 + G103/(1+i_) * (1-C102) -> 2.114028 | H102: =C102/(1+i_) + (1-C102) * H103 / (1+i_) -> 0.91869123 | I102: =(I103+1)*(1-C102)+ 0.5 * C102 -> 1.6984531 | J102: =20+male08*(male64-male!A102) -> -8.8
A103: =A102+1 -> 101 | B103: =B102*(1-C102) -> 581.15973 | C103: =C102*C102/C101 -> 0.44994423 | D103: =IF(male!A103<=male100,1/100 * 10 ^ ((male!A103-male100)/(male100-male1000)),1/100 * 10 ^ ((male!A103-male100)/(male10-male100))) -> 0.49619476 | E103: =LN(C103)/LN(10) -> -0.34684131 | F103: =LN(D103)/LN(10) -> -0.30434783 | G103: =1 + G104/(1+i_) * (1-C103) -> 1.9570987 | H103: =C103/(1+i_) + (1-C103) * H104 / (1+i_) -> 0.92472697 | I103: =(I104+1)*(1-C103)+ 0.5 * C103 -> 1.5244372 | J103: =20+male08*(male64-male!A103) -> -9.6
A104: =A103+1 -> 102 | B104: =B103*(1-C103) -> 319.67026 | C104: =C103*C103/C102 -> 0.49619225 | D104: =IF(male!A104<=male100,1/100 * 10 ^ ((male!A104-male100)/(male100-male1000)),1/100 * 10 ^ ((male!A104-male100)/(male10-male100))) -> 0.54844166 | E104: =LN(C104)/LN(10) -> -0.30435002 | F104: =LN(D104)/LN(10) -> -0.26086957 | G104: =1 + G105/(1+i_) * (1-C104) -> 1.8096032 | H104: =C104/(1+i_) + (1-C104) * H105 / (1+i_) -> 0.93039988 | I104: =(I105+1)*(1-C104)+ 0.5 * C104 -> 1.3624243 | J104: =20+male08*(male64-male!A104) -> -10.4
A105: =A104+1 -> 103 | B105: =B104*(1-C104) -> 161.05235 | C105: =C104*C104/C103 -> 0.54719392 | D105: =IF(male!A105<=male100,1/100 * 10 ^ ((male!A105-male100)/(male100-male1000)),1/100 * 10 ^ ((male!A105-male100)/(male10-male100))) -> 0.6061899 | E105: =LN(C105)/LN(10) -> -0.26185874 | F105: =LN(D105)/LN(10) -> -0.2173913 | G105: =1 + G106/(1+i_) * (1-C105) -> 1.6712472 | H105: =C105/(1+i_) + (1-C105) * H106 / (1+i_) -> 0.93572126 | I105: =(I106+1)*(1-C105)+ 0.5 * C105 -> 1.2118123 | J105: =20+male08*(male64-male!A105) -> -11.2
A106: =A105+1 -> 104 | B106: =B105*(1-C105) -> 72.925485 | C106: =C105*C105/C104 -> 0.60343786 | D106: =IF(male!A106<=male100,1/100 * 10 ^ ((male!A106-male100)/(male100-male1000)),1/100 * 10 ^ ((male!A106-male100)/(male10-male100))) -> 0.67001875 | E106: =LN(C106)/LN(10) -> -0.21936745 | F106: =LN(D106)/LN(10) -> -0.17391304 | G106: =1 + G107/(1+i_) * (1-C106) -> 1.5417132 | H106: =C106/(1+i_) + (1-C106) * H107 / (1+i_) -> 0.94070334 | I106: =(I107+1)*(1-C106)+ 0.5 * C106 -> 1.0720025 | J106: =20+male08*(male64-male!A106) -> -12
A107: =A106+1 -> 105 | B107: =B106*(1-C106) -> 28.919487 | C107: =C106*C106/C105 -> 0.66546289 | D107: =IF(male!A107<=male100,1/100 * 10 ^ ((male!A107-male100)/(male100-male1000)),1/100 * 10 ^ ((male!A107-male100)/(male10-male100))) -> 0.74056847 | E107: =LN(C107)/LN(10) -> -0.17687616 | F107: =LN(D107)/LN(10) -> -0.13043478 | G107: =1 + G108/(1+i_) * (1-C107) -> 1.4206645 | H107: =C107/(1+i_) + (1-C107) * H108 / (1+i_) -> 0.94535906 | I107: =(I108+1)*(1-C107)+ 0.5 * C107 -> 0.94240321 | J107: =20+male08*(male64-male!A107) -> -12.8
A108: =A107+1 -> 106 | B108: =B107*(1-C107) -> 9.6746416 | C108: =C107*C107/C106 -> 0.73386323 | D108: =IF(male!A108<=male100,1/100 * 10 ^ ((male!A108-male100)/(male100-male1000)),1/100 * 10 ^ ((male!A108-male100)/(male10-male100))) -> 0.81854673 | E108: =LN(C108)/LN(10) -> -0.13438487 | F108: =LN(D108)/LN(10) -> -0.086956522 | G108: =1 + G109/(1+i_) * (1-C108) -> 1.3077505 | H108: =C108/(1+i_) + (1-C108) * H109 / (1+i_) -> 0.9497019 | I108: =(I109+1)*(1-C108)+ 0.5 * C108 -> 0.82243389 | J108: =20+male08*(male64-male!A108) -> -13.6
A109: =A108+1 -> 107 | B109: =B108*(1-C108) -> 2.5747779 | C109: =C108*C108/C107 -> 0.80929418 | D109: =IF(male!A109<=male100,1/100 * 10 ^ ((male!A109-male100)/(male100-male1000)),1/100 * 10 ^ ((male!A109-male100)/(male10-male100))) -> 0.90473572 | E109: =LN(C109)/LN(10) -> -0.091893584 | F109: =LN(D109)/LN(10) -> -0.043478261 | G109: =1 + G110/(1+i_) * (1-C109) -> 1.2026168 | H109: =C109/(1+i_) + (1-C109) * H110 / (1+i_) -> 0.95374551 | I109: =(I110+1)*(1-C109)+ 0.5 * C109 -> 0.71153454 | J109: =20+male08*(male64-male!A109) -> -14.4
A110: =A109+1 -> 108 | B110: =B109*(1-C109) -> 0.49102513 | C110: =C109*C109/C108 -> 0.89247838 | D110: =IF(male!A110<=male100,1/100 * 10 ^ ((male!A110-male100)/(male100-male1000)),1/100 * 10 ^ ((male!A110-male100)/(male10-male100))) -> 1 | E110: =LN(C110)/LN(10) -> -0.049402296 | F110: =LN(D110)/LN(10) -> 0 | G110: =1 + G111/(1+i_) * (1-C110) -> 1.1049556 | H110: =C110/(1+i_) + (1-C110) * H111 / (1+i_) -> 0.95750171 | I110: =(I111+1)*(1-C110)+ 0.5 * C110 -> 0.60921909 | J110: =20+male08*(male64-male!A110) -> -15.2
A111: =A110+1 -> 109 | B111: =B110*(1-C110) -> 0.052795817 | C111: =C110*C110/C109 -> 0.98421276 | D111: =IF(male!A111<=male100,1/100 * 10 ^ ((male!A111-male100)/(male100-male1000)),1/100 * 10 ^ ((male!A111-male100)/(male10-male100))) -> 1.1052951 | E111: =LN(C111)/LN(10) -> -0.0069110075 | F111: =LN(D111)/LN(10) -> 0.043478261 | G111: =1 + G112/(1+i_) * (1-C111) -> 1.01518 | H111: =C111/(1+i_) + (1-C111) * H112 / (1+i_) -> 0.96095461 | I111: =(I112+1)*(1-C111)+ 0.5 * C111 -> 0.51578724 | J111: =20+male08*(male64-male!A111) -> -16
A112: =A111+1 -> 110 | B112: =B111*(1-C111) -> 0.00083350009 | C112: 1 | D112: =IF(male!A112<=male100,1/100 * 10 ^ ((male!A112-male100)/(male100-male1000)),1/100 * 10 ^ ((male!A112-male100)/(male10-male100))) -> 1.2216773 | E112: =LN(C112)/LN(10) -> 0 | F112: =LN(D112)/LN(10) -> 0.086956522 | G112: 1 | H112: =1/(1+i_) -> 0.96153846 | I112: 0.5 | J112: =20+male08*(male64-male!A112) -> -16.8

Sheet male tqx
A1: Male | B1: Exact tqx | L1: x
C2: 30 | D2: =C2+2 -> 32 | E2: =D2+2 -> 34 | F2: =E2+2 -> 36 | G2: =F2+2 -> 38 | H2: =G2+2 -> 40 | I2: =H2+2 -> 42 | J2: =I2+2 -> 44 | K2: =J2+2 -> 46 | ... AB2: =AA2+2 -> 80
B3: 1 | C3: =1-VLOOKUP(C$2+$B3,maleTable,2,FALSE) / VLOOKUP(C$2,maleTable,2,FALSE) -> 0.00076997191 | D3: =1-VLOOKUP(D$2+$B3,maleTable,2,FALSE) / VLOOKUP(D$2,maleTable,2,FALSE) -> 0.00085847711 | E3: =1-VLOOKUP(E$2+$B3,maleTable,2,FALSE) / VLOOKUP(E$2,maleTable,2,FALSE) -> 0.00098914583 | F3: =1-VLOOKUP(F$2+$B3,maleTable,2,FALSE) / VLOOKUP(F$2,maleTable,2,FALSE) -> 0.0011542109 | G3: =1-VLOOKUP(G$2+$B3,maleTable,2,FALSE) / VLOOKUP(G$2,maleTable,2,FALSE) -> 0.0013164278 | H3: =1-VLOOKUP(H$2+$B3,maleTable,2,FALSE) / VLOOKUP(H$2,maleTable,2,FALSE) -> 0.0016058153 | I3: =1-VLOOKUP(I$2+$B3,maleTable,2,FALSE) / VLOOKUP(I$2,maleTable,2,FALSE) -> 0.001847464 | J3: =1-VLOOKUP(J$2+$B3,maleTable,2,FALSE) / VLOOKUP(J$2,maleTable,2,FALSE) -> 0.0022104861 | ... AB3: =1-VLOOKUP(AB$2+$B3,maleTable,2,FALSE) / VLOOKUP(AB$2,maleTable,2,FALSE) -> 0.056144053
B4: =B3+1 -> 2 | C4: =1-VLOOKUP(C$2+$B4,maleTable,2,FALSE) / VLOOKUP(C$2,maleTable,2,FALSE) -> 0.0016037704 | D4: =1-VLOOKUP(D$2+$B4,maleTable,2,FALSE) / VLOOKUP(D$2,maleTable,2,FALSE) -> 0.0018153848 | E4: =1-VLOOKUP(E$2+$B4,maleTable,2,FALSE) / VLOOKUP(E$2,maleTable,2,FALSE) -> 0.0020880838 | F4: =1-VLOOKUP(F$2+$B4,maleTable,2,FALSE) / VLOOKUP(F$2,maleTable,2,FALSE) -> 0.0025040163 | G4: =1-VLOOKUP(G$2+$B4,maleTable,2,FALSE) / VLOOKUP(G$2,maleTable,2,FALSE) -> 0.0027717494 | H4: =1-VLOOKUP(H$2+$B4,maleTable,2,FALSE) / VLOOKUP(H$2,maleTable,2,FALSE) -> 0.0033027771 | I4: =1-VLOOKUP(I$2+$B4,maleTable,2,FALSE) / VLOOKUP(I$2,maleTable,2,FALSE) -> 0.0038593297 | J4: =1-VLOOKUP(J$2+$B4,maleTable,2,FALSE) / VLOOKUP(J$2,maleTable,2,FALSE) -> 0.0046705932 | ... AB4: =1-VLOOKUP(AB$2+$B4,maleTable,2,FALSE) / VLOOKUP(AB$2,maleTable,2,FALSE) -> 0.11469119
B5: =B4+1 -> 3 | C5: =1-VLOOKUP(C$2+$B5,maleTable,2,FALSE) / VLOOKUP(C$2,maleTable,2,FALSE) -> 0.0024608707 | D5: =1-VLOOKUP(D$2+$B5,maleTable,2,FALSE) / VLOOKUP(D$2,maleTable,2,FALSE) -> 0.0028027349 | E5: =1-VLOOKUP(E$2+$B5,maleTable,2,FALSE) / VLOOKUP(E$2,maleTable,2,FALSE) -> 0.0032398846 | F5: =1-VLOOKUP(F$2+$B5,maleTable,2,FALSE) / VLOOKUP(F$2,maleTable,2,FALSE) -> 0.0038171477 | G5: =1-VLOOKUP(G$2+$B5,maleTable,2,FALSE) / VLOOKUP(G$2,maleTable,2,FALSE) -> 0.0043731138 | H5: =1-VLOOKUP(H$2+$B5,maleTable,2,FALSE) / VLOOKUP(H$2,maleTable,2,FALSE) -> 0.0051441393 | I5: =1-VLOOKUP(I$2+$B5,maleTable,2,FALSE) / VLOOKUP(I$2,maleTable,2,FALSE) -> 0.0060612848 | J5: =1-VLOOKUP(J$2+$B5,maleTable,2,FALSE) / VLOOKUP(J$2,maleTable,2,FALSE) -> 0.0073050223 | ... AB5: =1-VLOOKUP(AB$2+$B5,maleTable,2,FALSE) / VLOOKUP(AB$2,maleTable,2,FALSE) -> 0.17595153
B6: =B5+1 -> 4 | C6: =1-VLOOKUP(C$2+$B6,maleTable,2,FALSE) / VLOOKUP(C$2,maleTable,2,FALSE) -> 0.0034162438 | D6: =1-VLOOKUP(D$2+$B6,maleTable,2,FALSE) / VLOOKUP(D$2,maleTable,2,FALSE) -> 0.0038996779 | E6: =1-VLOOKUP(E$2+$B6,maleTable,2,FALSE) / VLOOKUP(E$2,maleTable,2,FALSE) -> 0.0045868715 | F6: =1-VLOOKUP(F$2+$B6,maleTable,2,FALSE) / VLOOKUP(F$2,maleTable,2,FALSE) -> 0.0052688252 | G6: =1-VLOOKUP(G$2+$B6,maleTable,2,FALSE) / VLOOKUP(G$2,maleTable,2,FALSE) -> 0.006065372 | H6: =1-VLOOKUP(H$2+$B6,maleTable,2,FALSE) / VLOOKUP(H$2,maleTable,2,FALSE) -> 0.0071493603 | I6: =1-VLOOKUP(I$2+$B6,maleTable,2,FALSE) / VLOOKUP(I$2,maleTable,2,FALSE) -> 0.0085118975 | J6: =1-VLOOKUP(J$2+$B6,maleTable,2,FALSE) / VLOOKUP(J$2,maleTable,2,FALSE) -> 0.010027128 | ... AB6: =1-VLOOKUP(AB$2+$B6,maleTable,2,FALSE) / VLOOKUP(AB$2,maleTable,2,FALSE) -> 0.2398038
B7: =B6+1 -> 5 | C7: =1-VLOOKUP(C$2+$B7,maleTable,2,FALSE) / VLOOKUP(C$2,maleTable,2,FALSE) -> 0.0044020104 | D7: =1-VLOOKUP(D$2+$B7,maleTable,2,FALSE) / VLOOKUP(D$2,maleTable,2,FALSE) -> 0.0050493878 | E7: =1-VLOOKUP(E$2+$B7,maleTable,2,FALSE) / VLOOKUP(E$2,maleTable,2,FALSE) -> 0.005897261 | F7: =1-VLOOKUP(F$2+$B7,maleTable,2,FALSE) / VLOOKUP(F$2,maleTable,2,FALSE) -> 0.0068661798 | G7: =1-VLOOKUP(G$2+$B7,maleTable,2,FALSE) / VLOOKUP(G$2,maleTable,2,FALSE) -> 0.0079016305 | H7: =1-VLOOKUP(H$2+$B7,maleTable,2,FALSE) / VLOOKUP(H$2,maleTable,2,FALSE) -> 0.0093440429 | I7: =1-VLOOKUP(I$2+$B7,maleTable,2,FALSE) / VLOOKUP(I$2,maleTable,2,FALSE) -> 0.01113616 | J7: =1-VLOOKUP(J$2+$B7,maleTable,2,FALSE) / VLOOKUP(J$2,maleTable,2,FALSE) -> 0.012957595 | ... AB7: =1-VLOOKUP(AB$2+$B7,maleTable,2,FALSE) / VLOOKUP(AB$2,maleTable,2,FALSE) -> 0.30616484
B8: =B7+1 -> 6 | C8: =1-VLOOKUP(C$2+$B8,maleTable,2,FALSE) / VLOOKUP(C$2,maleTable,2,FALSE) -> 0.0054971942 | D8: =1-VLOOKUP(D$2+$B8,maleTable,2,FALSE) / VLOOKUP(D$2,maleTable,2,FALSE) -> 0.0063939294 | E8: =1-VLOOKUP(E$2+$B8,maleTable,2,FALSE) / VLOOKUP(E$2,maleTable,2,FALSE) -> 0.0073459072 | F8: =1-VLOOKUP(F$2+$B8,maleTable,2,FALSE) / VLOOKUP(F$2,maleTable,2,FALSE) -> 0.0085542005 | G8: =1-VLOOKUP(G$2+$B8,maleTable,2,FALSE) / VLOOKUP(G$2,maleTable,2,FALSE) -> 0.0099012934 | H8: =1-VLOOKUP(H$2+$B8,maleTable,2,FALSE) / VLOOKUP(H$2,maleTable,2,FALSE) -> 0.011786562 | I8: =1-VLOOKUP(I$2+$B8,maleTable,2,FALSE) / VLOOKUP(I$2,maleTable,2,FALSE) -> 0.01384776 | J8: =1-VLOOKUP(J$2+$B8,maleTable,2,FALSE) / VLOOKUP(J$2,maleTable,2,FALSE) -> 0.016211951 | ... AB8: =1-VLOOKUP(AB$2+$B8,maleTable,2,FALSE) / VLOOKUP(AB$2,maleTable,2,FALSE) -> 0.37379759
B9: =B8+1 -> 7 | C9: =1-VLOOKUP(C$2+$B9,maleTable,2,FALSE) / VLOOKUP(C$2,maleTable,2,FALSE) -> 0.0066450602 | D9: =1-VLOOKUP(D$2+$B9,maleTable,2,FALSE) / VLOOKUP(D$2,maleTable,2,FALSE) -> 0.00770194 | E9: =1-VLOOKUP(E$2+$B9,maleTable,2,FALSE) / VLOOKUP(E$2,maleTable,2,FALSE) -> 0.0089399264 | F9: =1-VLOOKUP(F$2+$B9,maleTable,2,FALSE) / VLOOKUP(F$2,maleTable,2,FALSE) -> 0.010385861 | G9: =1-VLOOKUP(G$2+$B9,maleTable,2,FALSE) / VLOOKUP(G$2,maleTable,2,FALSE) -> 0.012089893 | H9: =1-VLOOKUP(H$2+$B9,maleTable,2,FALSE) / VLOOKUP(H$2,maleTable,2,FALSE) -> 0.014402156 | I9: =1-VLOOKUP(I$2+$B9,maleTable,2,FALSE) / VLOOKUP(I$2,maleTable,2,FALSE) -> 0.016766917 | J9: =1-VLOOKUP(J$2+$B9,maleTable,2,FALSE) / VLOOKUP(J$2,maleTable,2,FALSE) -> 0.0197314 | ... AB9: =1-VLOOKUP(AB$2+$B9,maleTable,2,FALSE) / VLOOKUP(AB$2,maleTable,2,FALSE) -> 0.44281814
B10: =B9+1 -> 8 | C10: =1-VLOOKUP(C$2+$B10,maleTable,2,FALSE) / VLOOKUP(C$2,maleTable,2,FALSE) -> 0.0079874454 | D10: =1-VLOOKUP(D$2+$B10,maleTable,2,FALSE) / VLOOKUP(D$2,maleTable,2,FALSE) -> 0.0091479564 | E10: =1-VLOOKUP(E$2+$B10,maleTable,2,FALSE) / VLOOKUP(E$2,maleTable,2,FALSE) -> 0.010624422 | F10: =1-VLOOKUP(F$2+$B10,maleTable,2,FALSE) / VLOOKUP(F$2,maleTable,2,FALSE) -> 0.012380517 | G10: =1-VLOOKUP(G$2+$B10,maleTable,2,FALSE) / VLOOKUP(G$2,maleTable,2,FALSE) -> 0.014525642 | H10: =1-VLOOKUP(H$2+$B10,maleTable,2,FALSE) / VLOOKUP(H$2,maleTable,2,FALSE) -> 0.017104801 | I10: =1-VLOOKUP(I$2+$B10,maleTable,2,FALSE) / VLOOKUP(I$2,maleTable,2,FALSE) -> 0.020008713 | J10: =1-VLOOKUP(J$2+$B10,maleTable,2,FALSE) / VLOOKUP(J$2,maleTable,2,FALSE) -> 0.023476745 | ... AB10: =1-VLOOKUP(AB$2+$B10,maleTable,2,FALSE) / VLOOKUP(AB$2,maleTable,2,FALSE) -> 0.5112444
B11: =B10+1 -> 9 | C11: =1-VLOOKUP(C$2+$B11,maleTable,2,FALSE) / VLOOKUP(C$2,maleTable,2,FALSE) -> 0.0092933583 | D11: =1-VLOOKUP(D$2+$B11,maleTable,2,FALSE) / VLOOKUP(D$2,maleTable,2,FALSE) -> 0.010739082 | E11: =1-VLOOKUP(E$2+$B11,maleTable,2,FALSE) / VLOOKUP(E$2,maleTable,2,FALSE) -> 0.012452258 | F11: =1-VLOOKUP(F$2+$B11,maleTable,2,FALSE) / VLOOKUP(F$2,maleTable,2,FALSE) -> 0.014563636 | G11: =1-VLOOKUP(G$2+$B11,maleTable,2,FALSE) / VLOOKUP(G$2,maleTable,2,FALSE) -> 0.017133987 | H11: =1-VLOOKUP(H$2+$B11,maleTable,2,FALSE) / VLOOKUP(H$2,maleTable,2,FALSE) -> 0.020014317 | I11: =1-VLOOKUP(I$2+$B11,maleTable,2,FALSE) / VLOOKUP(I$2,maleTable,2,FALSE) -> 0.023514579 | J11: =1-VLOOKUP(J$2+$B11,maleTable,2,FALSE) / VLOOKUP(J$2,maleTable,2,FALSE) -> 0.02745727 | ... AB11: =1-VLOOKUP(AB$2+$B11,maleTable,2,FALSE) / VLOOKUP(AB$2,maleTable,2,FALSE) -> 0.57852371
B12: =B11+1 -> 10 | C12: =1-VLOOKUP(C$2+$B12,maleTable,2,FALSE) / VLOOKUP(C$2,maleTable,2,FALSE) -> 0.010737056 | D12: =1-VLOOKUP(D$2+$B12,maleTable,2,FALSE) / VLOOKUP(D$2,maleTable,2,FALSE) -> 0.01242052 | E12: =1-VLOOKUP(E$2+$B12,maleTable,2,FALSE) / VLOOKUP(E$2,maleTable,2,FALSE) -> 0.014442749 | F12: =1-VLOOKUP(F$2+$B12,maleTable,2,FALSE) / VLOOKUP(F$2,maleTable,2,FALSE) -> 0.016993286 | G12: =1-VLOOKUP(G$2+$B12,maleTable,2,FALSE) / VLOOKUP(G$2,maleTable,2,FALSE) -> 0.01982914 | H12: =1-VLOOKUP(H$2+$B12,maleTable,2,FALSE) / VLOOKUP(H$2,maleTable,2,FALSE) -> 0.023245406 | I12: =1-VLOOKUP(I$2+$B12,maleTable,2,FALSE) / VLOOKUP(I$2,maleTable,2,FALSE) -> 0.02724547 | J12: =1-VLOOKUP(J$2+$B12,maleTable,2,FALSE) / VLOOKUP(J$2,maleTable,2,FALSE) -> 0.03173796 | ... AB12: =1-VLOOKUP(AB$2+$B12,maleTable,2,FALSE) / VLOOKUP(AB$2,maleTable,2,FALSE) -> 0.64364769
B13: =B12+1 -> 11 | C13: =1-VLOOKUP(C$2+$B13,maleTable,2,FALSE) / VLOOKUP(C$2,maleTable,2,FALSE) -> 0.012325629 | D13: =1-VLOOKUP(D$2+$B13,maleTable,2,FALSE) / VLOOKUP(D$2,maleTable,2,FALSE) -> 0.014245037 | E13: =1-VLOOKUP(E$2+$B13,maleTable,2,FALSE) / VLOOKUP(E$2,maleTable,2,FALSE) -> 0.01662131 | F13: =1-VLOOKUP(F$2+$B13,maleTable,2,FALSE) / VLOOKUP(F$2,maleTable,2,FALSE) -> 0.019595099 | G13: =1-VLOOKUP(G$2+$B13,maleTable,2,FALSE) / VLOOKUP(G$2,maleTable,2,FALSE) -> 0.022730592 | H13: =1-VLOOKUP(H$2+$B13,maleTable,2,FALSE) / VLOOKUP(H$2,maleTable,2,FALSE) -> 0.026739693 | I13: =1-VLOOKUP(I$2+$B13,maleTable,2,FALSE) / VLOOKUP(I$2,maleTable,2,FALSE) -> 0.031210634 | J13: =1-VLOOKUP(J$2+$B13,maleTable,2,FALSE) / VLOOKUP(J$2,maleTable,2,FALSE) -> 0.036308498 | ... AB13: =1-VLOOKUP(AB$2+$B13,maleTable,2,FALSE) / VLOOKUP(AB$2,maleTable,2,FALSE) -> 0.70190722
A14: t | B14: =B13+1 -> 12 | C14: =1-VLOOKUP(C$2+$B14,maleTable,2,FALSE) / VLOOKUP(C$2,maleTable,2,FALSE) -> 0.014004371 | D14: =1-VLOOKUP(D$2+$B14,maleTable,2,FALSE) / VLOOKUP(D$2,maleTable,2,FALSE) -> 0.016231915 | E14: =1-VLOOKUP(E$2+$B14,maleTable,2,FALSE) / VLOOKUP(E$2,maleTable,2,FALSE) -> 0.019045886 | F14: =1-VLOOKUP(F$2+$B14,maleTable,2,FALSE) / VLOOKUP(F$2,maleTable,2,FALSE) -> 0.022283504 | G14: =1-VLOOKUP(G$2+$B14,maleTable,2,FALSE) / VLOOKUP(G$2,maleTable,2,FALSE) -> 0.025952725 | H14: =1-VLOOKUP(H$2+$B14,maleTable,2,FALSE) / VLOOKUP(H$2,maleTable,2,FALSE) -> 0.030458262 | I14: =1-VLOOKUP(I$2+$B14,maleTable,2,FALSE) / VLOOKUP(I$2,maleTable,2,FALSE) -> 0.035474802 | J14: =1-VLOOKUP(J$2+$B14,maleTable,2,FALSE) / VLOOKUP(J$2,maleTable,2,FALSE) -> 0.041170949 | ... AB14: =1-VLOOKUP(AB$2+$B14,maleTable,2,FALSE) / VLOOKUP(AB$2,maleTable,2,FALSE) -> 0.75655433
B15: =B14+1 -> 13 | C15: =1-VLOOKUP(C$2+$B15,maleTable,2,FALSE) / VLOOKUP(C$2,maleTable,2,FALSE) -> 0.015825962 | D15: =1-VLOOKUP(D$2+$B15,maleTable,2,FALSE) / VLOOKUP(D$2,maleTable,2,FALSE) -> 0.01840652 | E15: =1-VLOOKUP(E$2+$B15,maleTable,2,FALSE) / VLOOKUP(E$2,maleTable,2,FALSE) -> 0.021642267 | F15: =1-VLOOKUP(F$2+$B15,maleTable,2,FALSE) / VLOOKUP(F$2,maleTable,2,FALSE) -> 0.02517769 | G15: =1-VLOOKUP(G$2+$B15,maleTable,2,FALSE) / VLOOKUP(G$2,maleTable,2,FALSE) -> 0.029437327 | H15: =1-VLOOKUP(H$2+$B15,maleTable,2,FALSE) / VLOOKUP(H$2,maleTable,2,FALSE) -> 0.034410329 | I15: =1-VLOOKUP(I$2+$B15,maleTable,2,FALSE) / VLOOKUP(I$2,maleTable,2,FALSE) -> 0.040027702 | J15: =1-VLOOKUP(J$2+$B15,maleTable,2,FALSE) / VLOOKUP(J$2,maleTable,2,FALSE) -> 0.046534705 | ... AB15: =1-VLOOKUP(AB$2+$B15,maleTable,2,FALSE) / VLOOKUP(AB$2,maleTable,2,FALSE) -> 0.80545449
B16: =B15+1 -> 14 | C16: =1-VLOOKUP(C$2+$B16,maleTable,2,FALSE) / VLOOKUP(C$2,maleTable,2,FALSE) -> 0.017809653 | D16: =1-VLOOKUP(D$2+$B16,maleTable,2,FALSE) / VLOOKUP(D$2,maleTable,2,FALSE) -> 0.020826695 | E16: =1-VLOOKUP(E$2+$B16,maleTable,2,FALSE) / VLOOKUP(E$2,maleTable,2,FALSE) -> 0.024325058 | F16: =1-VLOOKUP(F$2+$B16,maleTable,2,FALSE) / VLOOKUP(F$2,maleTable,2,FALSE) -> 0.028391755 | G16: =1-VLOOKUP(G$2+$B16,maleTable,2,FALSE) / VLOOKUP(G$2,maleTable,2,FALSE) -> 0.033145588 | H16: =1-VLOOKUP(H$2+$B16,maleTable,2,FALSE) / VLOOKUP(H$2,maleTable,2,FALSE) -> 0.038660414 | I16: =1-VLOOKUP(I$2+$B16,maleTable,2,FALSE) / VLOOKUP(I$2,maleTable,2,FALSE) -> 0.044871387 | J16: =1-VLOOKUP(J$2+$B16,maleTable,2,FALSE) / VLOOKUP(J$2,maleTable,2,FALSE) -> 0.052312088 | ... AB16: =1-VLOOKUP(AB$2+$B16,maleTable,2,FALSE) / VLOOKUP(AB$2,maleTable,2,FALSE) -> 0.84883467
B17: =B16+1 -> 15 | C17: =1-VLOOKUP(C$2+$B17,maleTable,2,FALSE) / VLOOKUP(C$2,maleTable,2,FALSE) -> 0.019980771 | D17: =1-VLOOKUP(D$2+$B17,maleTable,2,FALSE) / VLOOKUP(D$2,maleTable,2,FALSE) -> 0.023418362 | E17: =1-VLOOKUP(E$2+$B17,maleTable,2,FALSE) / VLOOKUP(E$2,maleTable,2,FALSE) -> 0.027213201 | F17: =1-VLOOKUP(F$2+$B17,maleTable,2,FALSE) / VLOOKUP(F$2,maleTable,2,FALSE) -> 0.031867631 | G17: =1-VLOOKUP(G$2+$B17,maleTable,2,FALSE) / VLOOKUP(G$2,maleTable,2,FALSE) -> 0.037086701 | H17: =1-VLOOKUP(H$2+$B17,maleTable,2,FALSE) / VLOOKUP(H$2,maleTable,2,FALSE) -> 0.043198276 | I17: =1-VLOOKUP(I$2+$B17,maleTable,2,FALSE) / VLOOKUP(I$2,maleTable,2,FALSE) -> 0.050214441 | J17: =1-VLOOKUP(J$2+$B17,maleTable,2,FALSE) / VLOOKUP(J$2,maleTable,2,FALSE) -> 0.058656792 | ... AB17: =1-VLOOKUP(AB$2+$B17,maleTable,2,FALSE) / VLOOKUP(AB$2,maleTable,2,FALSE) -> 0.88581126
B18: =B17+1 -> 16 | C18: =1-VLOOKUP(C$2+$B18,maleTable,2,FALSE) / VLOOKUP(C$2,maleTable,2,FALSE) -> 0.022397064 | D18: =1-VLOOKUP(D$2+$B18,maleTable,2,FALSE) / VLOOKUP(D$2,maleTable,2,FALSE) -> 0.026096283 | E18: =1-VLOOKUP(E$2+$B18,maleTable,2,FALSE) / VLOOKUP(E$2,maleTable,2,FALSE) -> 0.030420555 | F18: =1-VLOOKUP(F$2+$B18,maleTable,2,FALSE) / VLOOKUP(F$2,maleTable,2,FALSE) -> 0.035566608 | G18: =1-VLOOKUP(G$2+$B18,maleTable,2,FALSE) / VLOOKUP(G$2,maleTable,2,FALSE) -> 0.041325007 | H18: =1-VLOOKUP(H$2+$B18,maleTable,2,FALSE) / VLOOKUP(H$2,maleTable,2,FALSE) -> 0.048025963 | I18: =1-VLOOKUP(I$2+$B18,maleTable,2,FALSE) / VLOOKUP(I$2,maleTable,2,FALSE) -> 0.055969528 | J18: =1-VLOOKUP(J$2+$B18,maleTable,2,FALSE) / VLOOKUP(J$2,maleTable,2,FALSE) -> 0.065470824 | ... AB18: =1-VLOOKUP(AB$2+$B18,maleTable,2,FALSE) / VLOOKUP(AB$2,maleTable,2,FALSE) -> 0.91652286
B19: =B18+1 -> 17 | C19: =1-VLOOKUP(C$2+$B19,maleTable,2,FALSE) / VLOOKUP(C$2,maleTable,2,FALSE) -> 0.024984575 | D19: =1-VLOOKUP(D$2+$B19,maleTable,2,FALSE) / VLOOKUP(D$2,maleTable,2,FALSE) -> 0.028979183 | E19: =1-VLOOKUP(E$2+$B19,maleTable,2,FALSE) / VLOOKUP(E$2,maleTable,2,FALSE) -> 0.033889173 | F19: =1-VLOOKUP(F$2+$B19,maleTable,2,FALSE) / VLOOKUP(F$2,maleTable,2,FALSE) -> 0.039497852 | G19: =1-VLOOKUP(G$2+$B19,maleTable,2,FALSE) / VLOOKUP(G$2,maleTable,2,FALSE) -> 0.045850291 | H19: =1-VLOOKUP(H$2+$B19,maleTable,2,FALSE) / VLOOKUP(H$2,maleTable,2,FALSE) -> 0.053351371 | I19: =1-VLOOKUP(I$2+$B19,maleTable,2,FALSE) / VLOOKUP(I$2,maleTable,2,FALSE) -> 0.062289746 | J19: =1-VLOOKUP(J$2+$B19,maleTable,2,FALSE) / VLOOKUP(J$2,maleTable,2,FALSE) -> 0.072865586 | ... AB19: =1-VLOOKUP(AB$2+$B19,maleTable,2,FALSE) / VLOOKUP(AB$2,maleTable,2,FALSE) -> 0.94077197
B20: =B19+1 -> 18 | C20: =1-VLOOKUP(C$2+$B20,maleTable,2,FALSE) / VLOOKUP(C$2,maleTable,2,FALSE) -> 0.027658201 | D20: =1-VLOOKUP(D$2+$B20,maleTable,2,FALSE) / VLOOKUP(D$2,maleTable,2,FALSE) -> 0.032180715 | E20: =1-VLOOKUP(E$2+$B20,maleTable,2,FALSE) / VLOOKUP(E$2,maleTable,2,FALSE) -> 0.037580425 | F20: =1-VLOOKUP(F$2+$B20,maleTable,2,FALSE) / VLOOKUP(F$2,maleTable,2,FALSE) -> 0.043725544 | G20: =1-VLOOKUP(G$2+$B20,maleTable,2,FALSE) / VLOOKUP(G$2,maleTable,2,FALSE) -> 0.050664597 | H20: =1-VLOOKUP(H$2+$B20,maleTable,2,FALSE) / VLOOKUP(H$2,maleTable,2,FALSE) -> 0.05908745 | I20: =1-VLOOKUP(I$2+$B20,maleTable,2,FALSE) / VLOOKUP(I$2,maleTable,2,FALSE) -> 0.06907748 | J20: =1-VLOOKUP(J$2+$B20,maleTable,2,FALSE) / VLOOKUP(J$2,maleTable,2,FALSE) -> 0.080872023 | ... AB20: =1-VLOOKUP(AB$2+$B20,maleTable,2,FALSE) / VLOOKUP(AB$2,maleTable,2,FALSE) -> 0.95937288
B21: =B20+1 -> 19 | C21: =1-VLOOKUP(C$2+$B21,maleTable,2,FALSE) / VLOOKUP(C$2,maleTable,2,FALSE) -> 0.030536478 | D21: =1-VLOOKUP(D$2+$B21,maleTable,2,FALSE) / VLOOKUP(D$2,maleTable,2,FALSE) -> 0.035643036 | E21: =1-VLOOKUP(E$2+$B21,maleTable,2,FALSE) / VLOOKUP(E$2,maleTable,2,FALSE) -> 0.041503461 | F21: =1-VLOOKUP(F$2+$B21,maleTable,2,FALSE) / VLOOKUP(F$2,maleTable,2,FALSE) -> 0.048239497 | G21: =1-VLOOKUP(G$2+$B21,maleTable,2,FALSE) / VLOOKUP(G$2,maleTable,2,FALSE) -> 0.055975244 | H21: =1-VLOOKUP(H$2+$B21,maleTable,2,FALSE) / VLOOKUP(H$2,maleTable,2,FALSE) -> 0.065386794 | I21: =1-VLOOKUP(I$2+$B21,maleTable,2,FALSE) / VLOOKUP(I$2,maleTable,2,FALSE) -> 0.076443704 | J21: =1-VLOOKUP(J$2+$B21,maleTable,2,FALSE) / VLOOKUP(J$2,maleTable,2,FALSE) -> 0.089697464 | ... AB21: =1-VLOOKUP(AB$2+$B21,maleTable,2,FALSE) / VLOOKUP(AB$2,maleTable,2,FALSE) -> 0.97300304
B22: =B21+1 -> 20 | C22: =1-VLOOKUP(C$2+$B22,maleTable,2,FALSE) / VLOOKUP(C$2,maleTable,2,FALSE) -> 0.033732874 | D22: =1-VLOOKUP(D$2+$B22,maleTable,2,FALSE) / VLOOKUP(D$2,maleTable,2,FALSE) -> 0.039327587 | E22: =1-VLOOKUP(E$2+$B22,maleTable,2,FALSE) / VLOOKUP(E$2,maleTable,2,FALSE) -> 0.045722326 | F22: =1-VLOOKUP(F$2+$B22,maleTable,2,FALSE) / VLOOKUP(F$2,maleTable,2,FALSE) -> 0.053041748 | G22: =1-VLOOKUP(G$2+$B22,maleTable,2,FALSE) / VLOOKUP(G$2,maleTable,2,FALSE) -> 0.061695424 | H22: =1-VLOOKUP(H$2+$B22,maleTable,2,FALSE) / VLOOKUP(H$2,maleTable,2,FALSE) -> 0.07215211 | I22: =1-VLOOKUP(I$2+$B22,maleTable,2,FALSE) / VLOOKUP(I$2,maleTable,2,FALSE) -> 0.084419241 | J22: =1-VLOOKUP(J$2+$B22,maleTable,2,FALSE) / VLOOKUP(J$2,maleTable,2,FALSE) -> 0.099302712 | ... AB22: =1-VLOOKUP(AB$2+$B22,maleTable,2,FALSE) / VLOOKUP(AB$2,maleTable,2,FALSE) -> 0.98299132
B23: =B22+1 -> 21 | C23: =1-VLOOKUP(C$2+$B23,maleTable,2,FALSE) / VLOOKUP(C$2,maleTable,2,FALSE) -> 0.037189643 | D23: =1-VLOOKUP(D$2+$B23,maleTable,2,FALSE) / VLOOKUP(D$2,maleTable,2,FALSE) -> 0.043243501 | E23: =1-VLOOKUP(E$2+$B23,maleTable,2,FALSE) / VLOOKUP(E$2,maleTable,2,FALSE) -> 0.050226853 | F23: =1-VLOOKUP(F$2+$B23,maleTable,2,FALSE) / VLOOKUP(F$2,maleTable,2,FALSE) -> 0.058339098 | G23: =1-VLOOKUP(G$2+$B23,maleTable,2,FALSE) / VLOOKUP(G$2,maleTable,2,FALSE) -> 0.067977307 | H23: =1-VLOOKUP(H$2+$B23,maleTable,2,FALSE) / VLOOKUP(H$2,maleTable,2,FALSE) -> 0.079494004 | I23: =1-VLOOKUP(I$2+$B23,maleTable,2,FALSE) / VLOOKUP(I$2,maleTable,2,FALSE) -> 0.093210621 | J23: =1-VLOOKUP(J$2+$B23,maleTable,2,FALSE) / VLOOKUP(J$2,maleTable,2,FALSE) -> 0.10936491 | ... AB23: =1-VLOOKUP(AB$2+$B23,maleTable,2,FALSE) / VLOOKUP(AB$2,maleTable,2,FALSE) -> 0.98993098
B24: =B23+1 -> 22 | C24: =1-VLOOKUP(C$2+$B24,maleTable,2,FALSE) / VLOOKUP(C$2,maleTable,2,FALSE) -> 0.040868285 | D24: =1-VLOOKUP(D$2+$B24,maleTable,2,FALSE) / VLOOKUP(D$2,maleTable,2,FALSE) -> 0.047454707 | E24: =1-VLOOKUP(E$2+$B24,maleTable,2,FALSE) / VLOOKUP(E$2,maleTable,2,FALSE) -> 0.055019076 | F24: =1-VLOOKUP(F$2+$B24,maleTable,2,FALSE) / VLOOKUP(F$2,maleTable,2,FALSE) -> 0.064044954 | G24: =1-VLOOKUP(G$2+$B24,maleTable,2,FALSE) / VLOOKUP(G$2,maleTable,2,FALSE) -> 0.074723872 | H24: =1-VLOOKUP(H$2+$B24,maleTable,2,FALSE) / VLOOKUP(H$2,maleTable,2,FALSE) -> 0.0874432 | I24: =1-VLOOKUP(I$2+$B24,maleTable,2,FALSE) / VLOOKUP(I$2,maleTable,2,FALSE) -> 0.1027788 | J24: =1-VLOOKUP(J$2+$B24,maleTable,2,FALSE) / VLOOKUP(J$2,maleTable,2,FALSE) -> 0.1204617 | ... AB24: =1-VLOOKUP(AB$2+$B24,maleTable,2,FALSE) / VLOOKUP(AB$2,maleTable,2,FALSE) -> 0.99446148
B25: =B24+1 -> 23 | C25: =1-VLOOKUP(C$2+$B25,maleTable,2,FALSE) / VLOOKUP(C$2,maleTable,2,FALSE) -> 0.044777919 | D25: =1-VLOOKUP(D$2+$B25,maleTable,2,FALSE) / VLOOKUP(D$2,maleTable,2,FALSE) -> 0.051951057 | E25: =1-VLOOKUP(E$2+$B25,maleTable,2,FALSE) / VLOOKUP(E$2,maleTable,2,FALSE) -> 0.060305364 | F25: =1-VLOOKUP(F$2+$B25,maleTable,2,FALSE) / VLOOKUP(F$2,maleTable,2,FALSE) -> 0.070311107 | G25: =1-VLOOKUP(G$2+$B25,maleTable,2,FALSE) / VLOOKUP(G$2,maleTable,2,FALSE) -> 0.082045416 | H25: =1-VLOOKUP(H$2+$B25,maleTable,2,FALSE) / VLOOKUP(H$2,maleTable,2,FALSE) -> 0.096205544 | I25: =1-VLOOKUP(I$2+$B25,maleTable,2,FALSE) / VLOOKUP(I$2,maleTable,2,FALSE) -> 0.11280217 | J25: =1-VLOOKUP(J$2+$B25,maleTable,2,FALSE) / VLOOKUP(J$2,maleTable,2,FALSE) -> 0.1326467 | ... AB25: =1-VLOOKUP(AB$2+$B25,maleTable,2,FALSE) / VLOOKUP(AB$2,maleTable,2,FALSE) -> 0.99720965
B26: =B25+1 -> 24 | C26: =1-VLOOKUP(C$2+$B26,maleTable,2,FALSE) / VLOOKUP(C$2,maleTable,2,FALSE) -> 0.048982371 | D26: =1-VLOOKUP(D$2+$B26,maleTable,2,FALSE) / VLOOKUP(D$2,maleTable,2,FALSE) -> 0.05673458 | E26: =1-VLOOKUP(E$2+$B26,maleTable,2,FALSE) / VLOOKUP(E$2,maleTable,2,FALSE) -> 0.065999307 | F26: =1-VLOOKUP(F$2+$B26,maleTable,2,FALSE) / VLOOKUP(F$2,maleTable,2,FALSE) -> 0.077040778 | G26: =1-VLOOKUP(G$2+$B26,maleTable,2,FALSE) / VLOOKUP(G$2,maleTable,2,FALSE) -> 0.089972579 | H26: =1-VLOOKUP(H$2+$B26,maleTable,2,FALSE) / VLOOKUP(H$2,maleTable,2,FALSE) -> 0.10574212 | I26: =1-VLOOKUP(I$2+$B26,maleTable,2,FALSE) / VLOOKUP(I$2,maleTable,2,FALSE) -> 0.12385612 | J26: =1-VLOOKUP(J$2+$B26,maleTable,2,FALSE) / VLOOKUP(J$2,maleTable,2,FALSE) -> 0.14546814 | ... AB26: =1-VLOOKUP(AB$2+$B26,maleTable,2,FALSE) / VLOOKUP(AB$2,maleTable,2,FALSE) -> 0.99873651
... B32: =B31+1 -> 30 | C32: =1-VLOOKUP(C$2+$B32,maleTable,2,FALSE) / VLOOKUP(C$2,maleTable,2,FALSE) -> 0.082114464 | D32: =1-VLOOKUP(D$2+$B32,maleTable,2,FALSE) / VLOOKUP(D$2,maleTable,2,FALSE) -> 0.09579123 | E32: =1-VLOOKUP(E$2+$B32,maleTable,2,FALSE) / VLOOKUP(E$2,maleTable,2,FALSE) -> 0.11231126 | F32: =1-VLOOKUP(F$2+$B32,maleTable,2,FALSE) / VLOOKUP(F$2,maleTable,2,FALSE) -> 0.13135083 | G32: =1-VLOOKUP(G$2+$B32,maleTable,2,FALSE) / VLOOKUP(G$2,maleTable,2,FALSE) -> 0.15392911 | H32: =1-VLOOKUP(H$2+$B32,maleTable,2,FALSE) / VLOOKUP(H$2,maleTable,2,FALSE) -> 0.18042687 | I32: =1-VLOOKUP(I$2+$B32,maleTable,2,FALSE) / VLOOKUP(I$2,maleTable,2,FALSE) -> 0.21029956 | J32: =1-VLOOKUP(J$2+$B32,maleTable,2,FALSE) / VLOOKUP(J$2,maleTable,2,FALSE) -> 0.2452866 | ... AB32: =1-VLOOKUP(AB$2+$B32,maleTable,2,FALSE) / VLOOKUP(AB$2,maleTable,2,FALSE) -> 0.99999999
B34: Rule of Thumb tqx
C35: 30 | D35: =C35+2 -> 32 | E35: =D35+2 -> 34 | F35: =E35+2 -> 36 | G35: =F35+2 -> 38 | H35: =G35+2 -> 40 | I35: =H35+2 -> 42 | J35: =I35+2 -> 44 | K35: =J35+2 -> 46 | ... AB35: =AA35+2 -> 80
B36: 1 | C36: =VLOOKUP(C$35+$B36/2,maleTable,4,TRUE) * $B36 -> 0.00071968567 | D36: =VLOOKUP(D$35+$B36/2,maleTable,4,TRUE) * $B36 -> 0.0008483429 | E36: =VLOOKUP(E$35+$B36/2,maleTable,4,TRUE) * $B36 -> 0.001 | F36: =VLOOKUP(F$35+$B36/2,maleTable,4,TRUE) * $B36 -> 0.0011787686 | G36: =VLOOKUP(G$35+$B36/2,maleTable,4,TRUE) * $B36 -> 0.0013894955 | H36: =VLOOKUP(H$35+$B36/2,maleTable,4,TRUE) * $B36 -> 0.0016378937 | I36: =VLOOKUP(I$35+$B36/2,maleTable,4,TRUE) * $B36 -> 0.0019306977 | J36: =VLOOKUP(J$35+$B36/2,maleTable,4,TRUE) * $B36 -> 0.0022758459 | ... AB36: =VLOOKUP(AB$35+$B36/2,maleTable,4,TRUE) * $B36 -> 0.06061899
B37: =B36+1 -> 2 | C37: =VLOOKUP(C$35+$B37/2,maleTable,4,TRUE) * $B37 -> 0.0015627415 | D37: =VLOOKUP(D$35+$B37/2,maleTable,4,TRUE) * $B37 -> 0.0018421106 | E37: =VLOOKUP(E$35+$B37/2,maleTable,4,TRUE) * $B37 -> 0.0021714222 | F37: =VLOOKUP(F$35+$B37/2,maleTable,4,TRUE) * $B37 -> 0.0025596044 | G37: =VLOOKUP(G$35+$B37/2,maleTable,4,TRUE) * $B37 -> 0.0030171814 | H37: =VLOOKUP(H$35+$B37/2,maleTable,4,TRUE) * $B37 -> 0.0035565588 | I37: =VLOOKUP(I$35+$B37/2,maleTable,4,TRUE) * $B37 -> 0.00419236 | J37: =VLOOKUP(J$35+$B37/2,maleTable,4,TRUE) * $B37 -> 0.0049418225 | ... AB37: =VLOOKUP(AB$35+$B37/2,maleTable,4,TRUE) * $B37 -> 0.13400375
B38: =B37+1 -> 3 | C38: =VLOOKUP(C$35+$B38/2,maleTable,4,TRUE) * $B38 -> 0.0023441122 | D38: =VLOOKUP(D$35+$B38/2,maleTable,4,TRUE) * $B38 -> 0.002763166 | E38: =VLOOKUP(E$35+$B38/2,maleTable,4,TRUE) * $B38 -> 0.0032571334 | F38: =VLOOKUP(F$35+$B38/2,maleTable,4,TRUE) * $B38 -> 0.0038394066 | G38: =VLOOKUP(G$35+$B38/2,maleTable,4,TRUE) * $B38 -> 0.0045257721 | H38: =VLOOKUP(H$35+$B38/2,maleTable,4,TRUE) * $B38 -> 0.0053348382 | I38: =VLOOKUP(I$35+$B38/2,maleTable,4,TRUE) * $B38 -> 0.00628854 | J38: =VLOOKUP(J$35+$B38/2,maleTable,4,TRUE) * $B38 -> 0.0074127337 | ... AB38: =VLOOKUP(AB$35+$B38/2,maleTable,4,TRUE) * $B38 -> 0.20100563
B39: =B38+1 -> 4 | C39: =VLOOKUP(C$35+$B39/2,maleTable,4,TRUE) * $B39 -> 0.0033933716 | D39: =VLOOKUP(D$35+$B39/2,maleTable,4,TRUE) * $B39 -> 0.004 | E39: =VLOOKUP(E$35+$B39/2,maleTable,4,TRUE) * $B39 -> 0.0047150745 | F39: =VLOOKUP(F$35+$B39/2,maleTable,4,TRUE) * $B39 -> 0.005557982 | G39: =VLOOKUP(G$35+$B39/2,maleTable,4,TRUE) * $B39 -> 0.0065515748 | H39: =VLOOKUP(H$35+$B39/2,maleTable,4,TRUE) * $B39 -> 0.0077227909 | I39: =VLOOKUP(I$35+$B39/2,maleTable,4,TRUE) * $B39 -> 0.0091033837 | J39: =VLOOKUP(J$35+$B39/2,maleTable,4,TRUE) * $B39 -> 0.010730783 | ... AB39: =VLOOKUP(AB$35+$B39/2,maleTable,4,TRUE) * $B39 -> 0.29622739
B40: =B39+1 -> 5 | C40: =VLOOKUP(C$35+$B40/2,maleTable,4,TRUE) * $B40 -> 0.0042417145 | D40: =VLOOKUP(D$35+$B40/2,maleTable,4,TRUE) * $B40 -> 0.005 | E40: =VLOOKUP(E$35+$B40/2,maleTable,4,TRUE) * $B40 -> 0.0058938432 | F40: =VLOOKUP(F$35+$B40/2,maleTable,4,TRUE) * $B40 -> 0.0069474775 | G40: =VLOOKUP(G$35+$B40/2,maleTable,4,TRUE) * $B40 -> 0.0081894685 | H40: =VLOOKUP(H$35+$B40/2,maleTable,4,TRUE) * $B40 -> 0.0096534886 | I40: =VLOOKUP(I$35+$B40/2,maleTable,4,TRUE) * $B40 -> 0.01137923 | J40: =VLOOKUP(J$35+$B40/2,maleTable,4,TRUE) * $B40 -> 0.013413479 | ... AB40: =VLOOKUP(AB$35+$B40/2,maleTable,4,TRUE) * $B40 -> 0.37028423
B41: =B40+1 -> 6 | C41: =VLOOKUP(C$35+$B41/2,maleTable,4,TRUE) * $B41 -> 0.0055263319 | D41: =VLOOKUP(D$35+$B41/2,maleTable,4,TRUE) * $B41 -> 0.0065142667 | E41: =VLOOKUP(E$35+$B41/2,maleTable,4,TRUE) * $B41 -> 0.0076788133 | F41: =VLOOKUP(F$35+$B41/2,maleTable,4,TRUE) * $B41 -> 0.0090515443 | G41: =VLOOKUP(G$35+$B41/2,maleTable,4,TRUE) * $B41 -> 0.010669676 | H41: =VLOOKUP(H$35+$B41/2,maleTable,4,TRUE) * $B41 -> 0.01257708 | I41: =VLOOKUP(I$35+$B41/2,maleTable,4,TRUE) * $B41 -> 0.014825467 | J41: =VLOOKUP(J$35+$B41/2,maleTable,4,TRUE) * $B41 -> 0.017475796 | ... AB41: =VLOOKUP(AB$35+$B41/2,maleTable,4,TRUE) * $B41 -> 0.49112804
B42: =B41+1 -> 7 | C42: =VLOOKUP(C$35+$B42/2,maleTable,4,TRUE) * $B42 -> 0.0064473872 | D42: =VLOOKUP(D$35+$B42/2,maleTable,4,TRUE) * $B42 -> 0.0075999778 | E42: =VLOOKUP(E$35+$B42/2,maleTable,4,TRUE) * $B42 -> 0.0089586155 | F42: =VLOOKUP(F$35+$B42/2,maleTable,4,TRUE) * $B42 -> 0.010560135 | G42: =VLOOKUP(G$35+$B42/2,maleTable,4,TRUE) * $B42 -> 0.012447956 | H42: =VLOOKUP(H$35+$B42/2,maleTable,4,TRUE) * $B42 -> 0.01467326 | I42: =VLOOKUP(I$35+$B42/2,maleTable,4,TRUE) * $B42 -> 0.017296379 | J42: =VLOOKUP(J$35+$B42/2,maleTable,4,TRUE) * $B42 -> 0.020388429 | ... AB42: =VLOOKUP(AB$35+$B42/2,maleTable,4,TRUE) * $B42 -> 0.57298271
B43: =B42+1 -> 8 | C43: =VLOOKUP(C$35+$B43/2,maleTable,4,TRUE) * $B43 -> 0.008 | D43: =VLOOKUP(D$35+$B43/2,maleTable,4,TRUE) * $B43 -> 0.0094301491 | E43: =VLOOKUP(E$35+$B43/2,maleTable,4,TRUE) * $B43 -> 0.011115964 | F43: =VLOOKUP(F$35+$B43/2,maleTable,4,TRUE) * $B43 -> 0.01310315 | G43: =VLOOKUP(G$35+$B43/2,maleTable,4,TRUE) * $B43 -> 0.015445582 | H43: =VLOOKUP(H$35+$B43/2,maleTable,4,TRUE) * $B43 -> 0.018206767 | I43: =VLOOKUP(I$35+$B43/2,maleTable,4,TRUE) * $B43 -> 0.021461566 | J43: =VLOOKUP(J$35+$B43/2,maleTable,4,TRUE) * $B43 -> 0.025298221 | ... AB43: =VLOOKUP(AB$35+$B43/2,maleTable,4,TRUE) * $B43 -> 0.72378858
B44: =B43+1 -> 9 | C44: =VLOOKUP(C$35+$B44/2,maleTable,4,TRUE) * $B44 -> 0.009 | D44: =VLOOKUP(D$35+$B44/2,maleTable,4,TRUE) * $B44 -> 0.010608918 | E44: =VLOOKUP(E$35+$B44/2,maleTable,4,TRUE) * $B44 -> 0.012505459 | F44: =VLOOKUP(F$35+$B44/2,maleTable,4,TRUE) * $B44 -> 0.014741043 | G44: =VLOOKUP(G$35+$B44/2,maleTable,4,TRUE) * $B44 -> 0.01737628 | H44: =VLOOKUP(H$35+$B44/2,maleTable,4,TRUE) * $B44 -> 0.020482613 | I44: =VLOOKUP(I$35+$B44/2,maleTable,4,TRUE) * $B44 -> 0.024144262 | J44: =VLOOKUP(J$35+$B44/2,maleTable,4,TRUE) * $B44 -> 0.028460499 | ... AB44: =VLOOKUP(AB$35+$B44/2,maleTable,4,TRUE) * $B44 -> 0.81426215
B45: =B44+1 -> 10 | C45: =VLOOKUP(C$35+$B45/2,maleTable,4,TRUE) * $B45 -> 0.010857111 | D45: =VLOOKUP(D$35+$B45/2,maleTable,4,TRUE) * $B45 -> 0.012798022 | E45: =VLOOKUP(E$35+$B45/2,maleTable,4,TRUE) * $B45 -> 0.015085907 | F45: =VLOOKUP(F$35+$B45/2,maleTable,4,TRUE) * $B45 -> 0.017782794 | G45: =VLOOKUP(G$35+$B45/2,maleTable,4,TRUE) * $B45 -> 0.0209618 | H45: =VLOOKUP(H$35+$B45/2,maleTable,4,TRUE) * $B45 -> 0.024709112 | I45: =VLOOKUP(I$35+$B45/2,maleTable,4,TRUE) * $B45 -> 0.029126327 | J45: =VLOOKUP(J$35+$B45/2,maleTable,4,TRUE) * $B45 -> 0.0343332 | ... AB45: =VLOOKUP(AB$35+$B45/2,maleTable,4,TRUE) * $B45 -> 1
B46: =B45+1 -> 11 | C46: =VLOOKUP(C$35+$B46/2,maleTable,4,TRUE) * $B46 -> 0.011942822 | D46: =VLOOKUP(D$35+$B46/2,maleTable,4,TRUE) * $B46 -> 0.014077824 | E46: =VLOOKUP(E$35+$B46/2,maleTable,4,TRUE) * $B46 -> 0.016594498 | F46: =VLOOKUP(F$35+$B46/2,maleTable,4,TRUE) * $B46 -> 0.019561074 | G46: =VLOOKUP(G$35+$B46/2,maleTable,4,TRUE) * $B46 -> 0.02305798 | H46: =VLOOKUP(H$35+$B46/2,maleTable,4,TRUE) * $B46 -> 0.027180024 | I46: =VLOOKUP(I$35+$B46/2,maleTable,4,TRUE) * $B46 -> 0.032038959 | J46: =VLOOKUP(J$35+$B46/2,maleTable,4,TRUE) * $B46 -> 0.03776652 | ... AB46: =VLOOKUP(AB$35+$B46/2,maleTable,4,TRUE) * $B46 -> 1.1
B47: =B46+1 -> 12 | C47: =VLOOKUP(C$35+$B47/2,maleTable,4,TRUE) * $B47 -> 0.014145224 | D47: =VLOOKUP(D$35+$B47/2,maleTable,4,TRUE) * $B47 -> 0.016673946 | E47: =VLOOKUP(E$35+$B47/2,maleTable,4,TRUE) * $B47 -> 0.019654724 | F47: =VLOOKUP(F$35+$B47/2,maleTable,4,TRUE) * $B47 -> 0.023168373 | G47: =VLOOKUP(G$35+$B47/2,maleTable,4,TRUE) * $B47 -> 0.027310151 | H47: =VLOOKUP(H$35+$B47/2,maleTable,4,TRUE) * $B47 -> 0.03219235 | I47: =VLOOKUP(I$35+$B47/2,maleTable,4,TRUE) * $B47 -> 0.037947332 | J47: =VLOOKUP(J$35+$B47/2,maleTable,4,TRUE) * $B47 -> 0.044731125 | ... AB47: =VLOOKUP(AB$35+$B47/2,maleTable,4,TRUE) * $B47 -> 1.3263542
B48: =B47+1 -> 13 | C48: =VLOOKUP(C$35+$B48/2,maleTable,4,TRUE) * $B48 -> 0.015323992 | D48: =VLOOKUP(D$35+$B48/2,maleTable,4,TRUE) * $B48 -> 0.018063441 | E48: =VLOOKUP(E$35+$B48/2,maleTable,4,TRUE) * $B48 -> 0.021292618 | F48: =VLOOKUP(F$35+$B48/2,maleTable,4,TRUE) * $B48 -> 0.02509907 | G48: =VLOOKUP(G$35+$B48/2,maleTable,4,TRUE) * $B48 -> 0.029585997 | H48: =VLOOKUP(H$35+$B48/2,maleTable,4,TRUE) * $B48 -> 0.034875045 | I48: =VLOOKUP(I$35+$B48/2,maleTable,4,TRUE) * $B48 -> 0.04110961 | J48: =VLOOKUP(J$35+$B48/2,maleTable,4,TRUE) * $B48 -> 0.048458718 | ... AB48: =VLOOKUP(AB$35+$B48/2,maleTable,4,TRUE) * $B48 -> 1.4368837
... B65: =B64+1 -> 30 | C65: =VLOOKUP(C$35+$B65/2,maleTable,4,TRUE) * $B65 -> 0.074127337 | D65: =VLOOKUP(D$35+$B65/2,maleTable,4,TRUE) * $B65 -> 0.08737898 | E65: =VLOOKUP(E$35+$B65/2,maleTable,4,TRUE) * $B65 -> 0.1029996 | F65: =VLOOKUP(F$35+$B65/2,maleTable,4,TRUE) * $B65 -> 0.1214127 | G65: =VLOOKUP(G$35+$B65/2,maleTable,4,TRUE) * $B65 -> 0.14311748 | H65: =VLOOKUP(H$35+$B65/2,maleTable,4,TRUE) * $B65 -> 0.1687024 | I65: =VLOOKUP(I$35+$B65/2,maleTable,4,TRUE) * $B65 -> 0.19886109 | J65: =VLOOKUP(J$35+$B65/2,maleTable,4,TRUE) * $B65 -> 0.23441122 | ... AB65: =VLOOKUP(AB$35+$B65/2,maleTable,4,TRUE) * $B65 -> 8.1640163
B67: Accuracy
C68: 30 | D68: =C68+2 -> 32 | E68: =D68+2 -> 34 | F68: =E68+2 -> 36 | G68: =F68+2 -> 38 | H68: =G68+2 -> 40 | I68: =H68+2 -> 42 | J68: =I68+2 -> 44 | K68: =J68+2 -> 46 | ... AB68: =AA68+2 -> 80
B69: 1 | C69: =C36/C3-1 -> -0.065309179 | D69: =D36/D3-1 -> -0.011804867 | E69: =E36/E3-1 -> 0.010973279 | F69: =F36/F3-1 -> 0.021276614 | G69: =G36/G3-1 -> 0.055504543 | H69: =H36/H3-1 -> 0.01997637 | I69: =I36/I3-1 -> 0.045052963 | J69: =J36/J3-1 -> 0.029568059 | ... AB69: =AB36/AB3-1 -> 0.079704556
B70: =B69+1 -> 2 | C70: =C37/C4-1 -> -0.025582811 | D70: =D37/D4-1 -> 0.014721855 | E70: =E37/E4-1 -> 0.039911448 | F70: =F37/F4-1 -> 0.022199584 | G70: =G37/G4-1 -> 0.088547694 | H70: =H37/H4-1 -> 0.076838889 | I70: =I37/I4-1 -> 0.086292263 | J70: =J37/J4-1 -> 0.058071691 | ... AB70: =AB37/AB4-1 -> 0.16838752
B71: =B70+1 -> 3 | C71: =C38/C5-1 -> -0.047446021 | D71: =D38/D5-1 -> -0.014117995 | E71: =E38/E5-1 -> 0.005323869 | F71: =F38/F5-1 -> 0.005831296 | G71: =G38/G5-1 -> 0.034908375 | H71: =H38/H5-1 -> 0.037071098 | I71: =I38/I5-1 -> 0.037492898 | J71: =J38/J5-1 -> 0.014744835 | ... AB71: =AB38/AB5-1 -> 0.14239203
B72: =B71+1 -> 4 | C72: =C39/C6-1 -> -0.0066951253 | D72: =D39/D6-1 -> 0.025725735 | E72: =E39/E6-1 -> 0.027949995 | F72: =F39/F6-1 -> 0.054880693 | G72: =G39/G6-1 -> 0.080160425 | H72: =H39/H6-1 -> 0.080207264 | I72: =I39/I6-1 -> 0.069489342 | J72: =J39/J6-1 -> 0.070175123 | ... AB72: =AB39/AB6-1 -> 0.23529061
B73: =B72+1 -> 5 | C73: =C40/C7-1 -> -0.036414258 | D73: =D40/D7-1 -> -0.0097809486 | E73: =E40/E7-1 -> -0.0005795601 | F73: =F40/F7-1 -> 0.011840308 | G73: =G40/G7-1 -> 0.03642768 | H73: =H40/H7-1 -> 0.033116905 | I73: =I40/I7-1 -> 0.021827102 | J73: =J40/J7-1 -> 0.035182731 | ... AB73: =AB40/AB7-1 -> 0.20942767
B74: =B73+1 -> 6 | C74: =C41/C8-1 -> 0.0053004758 | D74: =D41/D8-1 -> 0.018820562 | E74: =E41/E8-1 -> 0.045318574 | F74: =F41/F8-1 -> 0.058140291 | G74: =G41/G8-1 -> 0.077604306 | H74: =H41/H8-1 -> 0.06706945 | I74: =I41/I8-1 -> 0.070604015 | J74: =J41/J8-1 -> 0.077957618 | ... AB74: =AB41/AB8-1 -> 0.31388764
B75: =B74+1 -> 7 | C75: =C42/C9-1 -> -0.029747353 | D75: =D42/D9-1 -> -0.013238504 | E75: =E42/E9-1 -> 0.0020905182 | F75: =F42/F9-1 -> 0.016779927 | G75: =G42/G9-1 -> 0.029616718 | H75: =H42/H9-1 -> 0.018823818 | I75: =I42/I9-1 -> 0.031577727 | J75: =J42/J9-1 -> 0.033298649 | ... AB75: =AB42/AB9-1 -> 0.2939459
B76: =B75+1 -> 8 | C76: =C43/C10-1 -> 0.001571791 | D76: =D43/D10-1 -> 0.03084762 | E76: =E43/E10-1 -> 0.046265245 | F76: =F43/F10-1 -> 0.058368557 | G76: =G43/G10-1 -> 0.063332147 | H76: =H43/H10-1 -> 0.064424395 | I76: =I43/I10-1 -> 0.07261102 | J76: =J43/J10-1 -> 0.077586405 | ... AB76: =AB43/AB10-1 -> 0.41573888
B77: =B76+1 -> 9 | C77: =C44/C11-1 -> -0.031566445 | D77: =D44/D11-1 -> -0.012120599 | E77: =E44/E11-1 -> 0.0042724169 | F77: =F44/F11-1 -> 0.012181534 | G77: =G44/G11-1 -> 0.014141073 | H77: =H44/H11-1 -> 0.023398059 | I77: =I44/I11-1 -> 0.0267784 | J77: =J44/J11-1 -> 0.036537808 | ... AB77: =AB44/AB11-1 -> 0.40748277
B78: =B77+1 -> 10 | C78: =C45/C12-1 -> 0.011181425 | D78: =D45/D12-1 -> 0.030393438 | E78: =E45/E12-1 -> 0.044531557 | F78: =F45/F12-1 -> 0.046460026 | G78: =G45/G12-1 -> 0.057120974 | H78: =H45/H12-1 -> 0.062967548 | I78: =I45/I12-1 -> 0.069033726 | J78: =J45/J12-1 -> 0.08177086 | ... AB78: =AB45/AB12-1 -> 0.55364497
B79: =B78+1 -> 11 | C79: =C46/C13-1 -> -0.031057799 | D79: =D46/D13-1 -> -0.011738335 | E79: =E46/E13-1 -> -0.0016131005 | F79: =F46/F13-1 -> -0.0017364355 | G79: =G46/G13-1 -> 0.01440297 | H79: =H46/H13-1 -> 0.016467297 | I79: =I46/I13-1 -> 0.026539855 | J79: =J46/J13-1 -> 0.040156487 | ... AB79: =AB46/AB13-1 -> 0.5671587
B80: =B79+1 -> 12 | C80: =C47/C14-1 -> 0.01005779 | D80: =D47/D14-1 -> 0.027232233 | E80: =E47/E14-1 -> 0.031966929 | F80: =F47/F14-1 -> 0.039709589 | G80: =G47/G14-1 -> 0.052303798 | H80: =H47/H14-1 -> 0.056933254 | I80: =I47/I14-1 -> 0.069698191 | J80: =J47/J14-1 -> 0.086473002 | ... AB80: =AB47/AB14-1 -> 0.75315126
B81: =B80+1 -> 13 | C81: =C48/C15-1 -> -0.031718121 | D81: =D48/D15-1 -> -0.01863899 | E81: =E48/E15-1 -> -0.016155818 | F81: =F48/F15-1 -> -0.0031226034 | G81: =G48/G15-1 -> 0.0050504021 | H81: =H48/H15-1 -> 0.013505146 | I81: =I48/I15-1 -> 0.027028979 | J81: =J48/J15-1 -> 0.041345784 | ... AB81: =AB48/AB15-1 -> 0.78394149
... B98: =B97+1 -> 30 | C98: =C65/C32-1 -> -0.097268218 | D98: =D65/D32-1 -> -0.087818583 | E98: =E65/E32-1 -> -0.082909375 | F98: =F65/F32-1 -> -0.075661002 | G98: =G65/G32-1 -> -0.070237735 | H98: =H65/H32-1 -> -0.064981866 | I98: =I65/I32-1 -> -0.054391296 | J98: =J65/J32-1 -> -0.044337435 | ... AB98: =AB65/AB32-1 -> 7.1640164

Sheet female
A1: x | B1: lx | C1: qx | D1: RoT qx | E1: ln qx | F1: ln RoT qx | G1: ax | H1: Ax | I1: ex | J1: RoT ex
A2: 0 | B2: 100000 | C2: =(B2-B3)/B2 -> 0.003503 | D2: =IF(female!A2<=female100,1/100 * 10 ^ ((female!A2-female100)/(female100-female1000)),1/100 * 10 ^ ((female!A2-female100)/(female10-female100))) -> 3.3000348e-05 | E2: =LN(C2)/LN(10) -> -2.4555599 | F2: =LN(D2)/LN(10) -> -4.4814815 | G2: =1 + G3/(1+i_) * (1-C2) -> 24.758434 | H2: =C2/(1+i_) + (1-C2) * H3 / (1+i_) -> 0.047752356 | I2: =(I3+1)*(1-C2)+ 0.5 * C2 -> 82.860536 | J2: =20+female08*(female67-female!A2) -> 73.6
A3: 1 | B3: 99649.7 | C3: =(B3-B4)/B3 -> 0.00021374876 | D3: =IF(female!A3<=female100,1/100 * 10 ^ ((female!A3-female100)/(female100-female1000)),1/100 * 10 ^ ((female!A3-female100)/(female10-female100))) -> 3.5938137e-05 | E3: =LN(C3)/LN(10) -> -3.6700964 | F3: =LN(D3)/LN(10) -> -4.4444444 | G3: =1 + G4/(1+i_) * (1-C3) -> 24.795631 | H3: =C3/(1+i_) + (1-C3) * H4 / (1+i_) -> 0.046321715 | I3: =(I4+1)*(1-C3)+ 0.5 * C3 -> 82.150059 | J3: =20+female08*(female67-female!A3) -> 72.8
A4: 2 | B4: 99628.4 | C4: =(B4-B5)/B4 -> 0.0001144252 | D4: =IF(female!A4<=female100,1/100 * 10 ^ ((female!A4-female100)/(female100-female1000)),1/100 * 10 ^ ((female!A4-female100)/(female10-female100))) -> 3.9137456e-05 | E4: =LN(C4)/LN(10) -> -3.9414783 | F4: =LN(D4)/LN(10) -> -4.4074074 | G4: =1 + G5/(1+i_) * (1-C4) -> 24.752747 | H4: =C4/(1+i_) + (1-C4) * H5 / (1+i_) -> 0.047971089 | I4: =(I5+1)*(1-C4)+ 0.5 * C4 -> 81.167516 | J4: =20+female08*(female67-female!A4) -> 72
A5: 3 | B5: 99617 | C5: =(B5-B6)/B5 -> 9.5365249e-05 | D5: =IF(female!A5<=female100,1/100 * 10 ^ ((female!A5-female100)/(female100-female1000)),1/100 * 10 ^ ((female!A5-female100)/(female10-female100))) -> 4.2621588e-05 | E5: =LN(C5)/LN(10) -> -4.0206099 | F5: =LN(D5)/LN(10) -> -4.3703704 | G5: =1 + G6/(1+i_) * (1-C5) -> 24.705684 | H5: =C5/(1+i_) + (1-C5) * H6 / (1+i_) -> 0.049781203 | I5: =(I6+1)*(1-C5)+ 0.5 * C5 -> 80.176747 | J5: =20+female08*(female67-female!A5) -> 71.2
A6: 4 | B6: 99607.5 | C6: =(B6-B7)/B6 -> 6.3248249e-05 | D6: =IF(female!A6<=female100,1/100 * 10 ^ ((female!A6-female100)/(female100-female1000)),1/100 * 10 ^ ((female!A6-female100)/(female10-female100))) -> 4.6415888e-05 | E6: =LN(C6)/LN(10) -> -4.1989515 | F6: =LN(D6)/LN(10) -> -4.3333333 | G6: =1 + G7/(1+i_) * (1-C6) -> 24.656262 | H6: =C6/(1+i_) + (1-C6) * H7 / (1+i_) -> 0.051682015 | I6: =(I7+1)*(1-C6)+ 0.5 * C6 -> 79.184346 | J6: =20+female08*(female67-female!A6) -> 70.4
A7: 5 | B7: 99601.2 | C7: =(B7-B8)/B7 -> 7.4296294e-05 | D7: =IF(female!A7<=female100,1/100 * 10 ^ ((female!A7-female100)/(female100-female1000)),1/100 * 10 ^ ((female!A7-female100)/(female10-female100))) -> 5.0547968e-05 | E7: =LN(C7)/LN(10) -> -4.1290329 | F7: =LN(D7)/LN(10) -> -4.2962963 | G7: =1 + G8/(1+i_) * (1-C7) -> 24.604069 | H7: =C7/(1+i_) + (1-C7) * H8 / (1+i_) -> 0.053689443 | I7: =(I8+1)*(1-C7)+ 0.5 * C7 -> 78.189323 | J7: =20+female08*(female67-female!A7) -> 69.6
A8: 6 | B8: 99593.8 | C8: =(B8-B9)/B8 -> 7.1289578e-05 | D8: =IF(female!A8<=female100,1/100 * 10 ^ ((female!A8-female100)/(female100-female1000)),1/100 * 10 ^ ((female!A8-female100)/(female10-female100))) -> 5.5047898e-05 | E8: =LN(C8)/LN(10) -> -4.146974 | F8: =LN(D8)/LN(10) -> -4.2592593 | G8: =1 + G9/(1+i_) * (1-C8) -> 24.550056 | H8: =C8/(1+i_) + (1-C8) * H9 / (1+i_) -> 0.055766868 | I8: =(I9+1)*(1-C8)+ 0.5 * C8 -> 77.195096 | J8: =20+female08*(female67-female!A8) -> 68.8
A9: 7 | B9: 99586.7 | C9: =(B9-B10)/B9 -> 5.4224108e-05 | D9: =IF(female!A9<=female100,1/100 * 10 ^ ((female!A9-female100)/(female100-female1000)),1/100 * 10 ^ ((female!A9-female100)/(female10-female100))) -> 5.9948425e-05 | E9: =LN(C9)/LN(10) -> -4.2658076 | F9: =LN(D9)/LN(10) -> -4.2222222 | G9: =1 + G10/(1+i_) * (1-C9) -> 24.493804 | H9: =C9/(1+i_) + (1-C9) * H10 / (1+i_) -> 0.057930383 | I9: =(I10+1)*(1-C9)+ 0.5 * C9 -> 76.200564 | J9: =20+female08*(female67-female!A9) -> 68
A10: 8 | B10: 99581.3 | C10: =(B10-B11)/B10 -> 5.8243867e-05 | D10: =IF(female!A10<=female100,1/100 * 10 ^ ((female!A10-female100)/(female100-female1000)),1/100 * 10 ^ ((female!A10-female100)/(female10-female100))) -> 6.5285211e-05 | E10: =LN(C10)/LN(10) -> -4.2347498 | F10: =LN(D10)/LN(10) -> -4.1851852 | G10: =1 + G11/(1+i_) * (1-C10) -> 24.434881 | H10: =C10/(1+i_) + (1-C10) * H11 / (1+i_) -> 0.060196638 | I10: =(I11+1)*(1-C10)+ 0.5 * C10 -> 75.204669 | J10: =20+female08*(female67-female!A10) -> 67.2
A11: 9 | B11: 99575.5 | C11: =(B11-B12)/B11 -> 5.1217418e-05 | D11: =IF(female!A11<=female100,1/100 * 10 ^ ((female!A11-female100)/(female100-female1000)),1/100 * 10 ^ ((female!A11-female100)/(female10-female100))) -> 7.1097094e-05 | E11: =LN(C11)/LN(10) -> -4.2905823 | F11: =LN(D11)/LN(10) -> -4.1481481 | G11: =1 + G12/(1+i_) * (1-C11) -> 24.373696 | H11: =C11/(1+i_) + (1-C11) * H12 / (1+i_) -> 0.062549903 | I11: =(I12+1)*(1-C11)+ 0.5 * C11 -> 74.20902 | J11: =20+female08*(female67-female!A11) -> 66.4
A12: 10 | B12: 99570.4 | C12: =(B12-B13)/B12 -> 6.5280445e-05 | D12: =IF(female!A12<=female100,1/100 * 10 ^ ((female!A12-female100)/(female100-female1000)),1/100 * 10 ^ ((female!A12-female100)/(female10-female100))) -> 7.7426368e-05 | E12: =LN(C12)/LN(10) -> -4.1852169 | F12: =LN(D12)/LN(10) -> -4.1111111 | G12: =1 + G13/(1+i_) * (1-C12) -> 24.309889 | H12: =C12/(1+i_) + (1-C12) * H13 / (1+i_) -> 0.065004011 | I12: =(I13+1)*(1-C12)+ 0.5 * C12 -> 73.212795 | J12: =20+female08*(female67-female!A12) -> 65.6
A13: 11 | B13: 99563.9 | C13: =(B13-B14)/B13 -> 5.5240906e-05 | D13: =IF(female!A13<=female100,1/100 * 10 ^ ((female!A13-female100)/(female100-female1000)),1/100 * 10 ^ ((female!A13-female100)/(female10-female100))) -> 8.4319093e-05 | E13: =LN(C13)/LN(10) -> -4.2577392 | F13: =LN(D13)/LN(10) -> -4.0740741 | G13: =1 + G14/(1+i_) * (1-C13) -> 24.243867 | H13: =C13/(1+i_) + (1-C13) * H14 / (1+i_) -> 0.0675433 | I13: =(I14+1)*(1-C13)+ 0.5 * C13 -> 72.217542 | J13: =20+female08*(female67-female!A13) -> 64.8
... A101: 99 | B101: 3622 | C101: =(B101-B102)/B101 -> 0.31990613 | D101: =IF(female!A101<=female100,1/100 * 10 ^ ((female!A101-female100)/(female100-female1000)),1/100 * 10 ^ ((female!A101-female100)/(female10-female100))) -> 0.39810717 | E101: =LN(C101)/LN(10) -> -0.49497744 | F101: =LN(D101)/LN(10) -> -0.4 | G101: =1 + G102/(1+i_) * (1-C101) -> 2.6383365 | H101: =C101/(1+i_) + (1-C101) * H102 / (1+i_) -> 0.89828933 | I101: =(I102+1)*(1-C101)+ 0.5 * C101 -> 2.2994529 | J101: =20+female08*(female67-female!A101) -> -5.6
A102: 100 | B102: 2463.3 | C102: =C101*C101/C100 -> 0.34153154 | D102: =IF(female!A102<=female100,1/100 * 10 ^ ((female!A102-female100)/(female100-female1000)),1/100 * 10 ^ ((female!A102-female100)/(female10-female100))) -> 0.44668359 | E102: =LN(C102)/LN(10) -> -0.46656919 | F102: =LN(D102)/LN(10) -> -0.35 | G102: =1 + G103/(1+i_) * (1-C102) -> 2.5053452 | H102: =C102/(1+i_) + (1-C102) * H103 / (1+i_) -> 0.90327938 | I102: =(I103+1)*(1-C102)+ 0.5 * C102 -> 2.145889 | J102: =20+female08*(female67-female!A102) -> -6.4
A103: =A102+1 -> 101 | B103: =B102*(1-C102) -> 1622.0054 | C103: =C102*C102/C101 -> 0.36461881 | D103: =IF(female!A103<=female100,1/100 * 10 ^ ((female!A103-female100)/(female100-female1000)),1/100 * 10 ^ ((female!A103-female100)/(female10-female100))) -> 0.50118723 | E103: =LN(C103)/LN(10) -> -0.43816093 | F103: =LN(D103)/LN(10) -> -0.3 | G103: =1 + G104/(1+i_) * (1-C103) -> 2.3775763 | H103: =C103/(1+i_) + (1-C103) * H104 / (1+i_) -> 0.90798429 | I103: =(I104+1)*(1-C103)+ 0.5 * C103 -> 1.9995715 | J103: =20+female08*(female67-female!A103) -> -7.2
A104: =A103+1 -> 102 | B104: =B103*(1-C103) -> 1030.5917 | C104: =C103*C103/C102 -> 0.38926676 | D104: =IF(female!A104<=female100,1/100 * 10 ^ ((female!A104-female100)/(female100-female1000)),1/100 * 10 ^ ((female!A104-female100)/(female10-female100))) -> 0.56234133 | E104: =LN(C104)/LN(10) -> -0.40975268 | F104: =LN(D104)/LN(10) -> -0.25 | G104: =1 + G105/(1+i_) * (1-C104) -> 2.2548344 | H104: =C104/(1+i_) + (1-C104) * H105 / (1+i_) -> 0.91234185 | I104: =(I105+1)*(1-C104)+ 0.5 * C104 -> 1.8601132 | J104: =20+female08*(female67-female!A104) -> -8
A105: =A104+1 -> 103 | B105: =B104*(1-C104) -> 629.41661 | C105: =C104*C104/C103 -> 0.41558089 | D105: =IF(female!A105<=female100,1/100 * 10 ^ ((female!A105-female100)/(female100-female1000)),1/100 * 10 ^ ((female!A105-female100)/(female10-female100))) -> 0.63095734 | E105: =LN(C105)/LN(10) -> -0.38134443 | F105: =LN(D105)/LN(10) -> -0.2 | G105: =1 + G106/(1+i_) * (1-C105) -> 2.1368212 | H105: =C105/(1+i_) + (1-C105) * H106 / (1+i_) -> 0.91622451 | I105: =(I106+1)*(1-C105)+ 0.5 * C105 -> 1.7270168 | J105: =20+female08*(female67-female!A105) -> -8.8
A106: =A105+1 -> 104 | B106: =B105*(1-C105) -> 367.8431 | C106: =C105*C105/C104 -> 0.44367384 | D106: =IF(female!A106<=female100,1/100 * 10 ^ ((female!A106-female100)/(female100-female1000)),1/100 * 10 ^ ((female!A106-female100)/(female10-female100))) -> 0.70794578 | E106: =LN(C106)/LN(10) -> -0.35293618 | F106: =LN(D106)/LN(10) -> -0.15 | G106: =1 + G107/(1+i_) * (1-C106) -> 2.0230244 | H106: =C106/(1+i_) + (1-C106) * H107 / (1+i_) -> 0.91936179 | I106: =(I107+1)*(1-C106)+ 0.5 * C106 -> 1.5995494 | J106: =20+female08*(female67-female!A106) -> -9.6
A107: =A106+1 -> 105 | B107: =B106*(1-C106) -> 204.64074 | C107: =C106*C106/C105 -> 0.47366585 | D107: =IF(female!A107<=female100,1/100 * 10 ^ ((female!A107-female100)/(female100-female1000)),1/100 * 10 ^ ((female!A107-female100)/(female10-female100))) -> 0.79432823 | E107: =LN(C107)/LN(10) -> -0.32452793 | F107: =LN(D107)/LN(10) -> -0.1 | G107: =1 + G108/(1+i_) * (1-C107) -> 1.9124489 | H107: =C107/(1+i_) + (1-C107) * H108 / (1+i_) -> 0.92115463 | I107: =(I108+1)*(1-C107)+ 0.5 * C107 -> 1.4764475 | J107: =20+female08*(female67-female!A107) -> -10.4
A108: =A107+1 -> 106 | B108: =B107*(1-C107) -> 107.70941 | C108: =C107*C107/C106 -> 0.5056853 | D108: =IF(female!A108<=female100,1/100 * 10 ^ ((female!A108-female100)/(female100-female1000)),1/100 * 10 ^ ((female!A108-female100)/(female10-female100))) -> 0.89125094 | E108: =LN(C108)/LN(10) -> -0.29611967 | F108: =LN(D108)/LN(10) -> -0.05 | G108: =1 + G109/(1+i_) * (1-C108) -> 1.8029361 | H108: =C108/(1+i_) + (1-C108) * H109 / (1+i_) -> 0.92020434 | I108: =(I109+1)*(1-C108)+ 0.5 * C108 -> 1.3551854 | J108: =20+female08*(female67-female!A108) -> -11.2
A109: =A108+1 -> 107 | B109: =B108*(1-C108) -> 53.242344 | C109: =C108*C108/C107 -> 0.53986924 | D109: =IF(female!A109<=female100,1/100 * 10 ^ ((female!A109-female100)/(female100-female1000)),1/100 * 10 ^ ((female!A109-female100)/(female10-female100))) -> 1 | E109: =LN(C109)/LN(10) -> -0.26771142 | F109: =LN(D109)/LN(10) -> 0 | G109: =1 + G110/(1+i_) * (1-C109) -> 1.6893156 | H109: =C109/(1+i_) + (1-C109) * H110 / (1+i_) -> 0.9130362 | I109: =(I110+1)*(1-C109)+ 0.5 * C109 -> 1.2300425 | J109: =20+female08*(female67-female!A109) -> -12
A110: =A109+1 -> 108 | B110: =B109*(1-C109) -> 24.49844 | C110: =C109*C109/C108 -> 0.57636398 | D110: =IF(female!A110<=female100,1/100 * 10 ^ ((female!A110-female100)/(female100-female1000)),1/100 * 10 ^ ((female!A110-female100)/(female10-female100))) -> 1.1220185 | E110: =LN(C110)/LN(10) -> -0.23930317 | F110: =LN(D110)/LN(10) -> 0.05 | G110: =1 + G111/(1+i_) * (1-C110) -> 1.5580097 | H110: =C110/(1+i_) + (1-C110) * H111 / (1+i_) -> 0.89037387 | I110: =(I111+1)*(1-C110)+ 0.5 * C110 -> 1.0865979 | J110: =20+female08*(female67-female!A110) -> -12.8
A111: =A110+1 -> 109 | B111: =B110*(1-C110) -> 10.378422 | C111: =C110*C110/C109 -> 0.61532574 | D111: =IF(female!A111<=female100,1/100 * 10 ^ ((female!A111-female100)/(female100-female1000)),1/100 * 10 ^ ((female!A111-female100)/(female10-female100))) -> 1.2589254 | E111: =LN(C111)/LN(10) -> -0.21089492 | F111: =LN(D111)/LN(10) -> 0.1 | G111: =1 + G112/(1+i_) * (1-C111) -> 1.3698791 | H111: =C111/(1+i_) + (1-C111) * H112 / (1+i_) -> 0.82529538 | I111: =(I112+1)*(1-C111)+ 0.5 * C111 -> 0.88467426 | J111: =20+female08*(female67-female!A111) -> -13.6
A112: =A111+1 -> 110 | B112: =B111*(1-C111) -> 3.9923117 | C112: =C111*C111/C110 -> 0.65692129 | D112: =IF(female!A112<=female100,1/100 * 10 ^ ((female!A112-female100)/(female100-female1000)),1/100 * 10 ^ ((female!A112-female100)/(female10-female100))) -> 1.4125375 | E112: =LN(C112)/LN(10) -> -0.18248666 | F112: =LN(D112)/LN(10) -> 0.15 | G112: =1 + G113/(1+i_) * (1-C112) -> 1 | H112: =C112/(1+i_) + (1-C112) * H113 / (1+i_) -> 0.63165509 | I112: 0.5 | J112: =20+female08*(female67-female!A112) -> -14.4

Sheet female tqx
A1: Female | B1: Exact tqx | L1: x
C2: 30 | D2: =C2+2 -> 32 | E2: =D2+2 -> 34 | F2: =E2+2 -> 36 | G2: =F2+2 -> 38 | H2: =G2+2 -> 40 | I2: =H2+2 -> 42 | J2: =I2+2 -> 44 | K2: =J2+2 -> 46 | ... AB2: =AA2+2 -> 80
B3: 1 | C3: =1-VLOOKUP(C$2+$B3,femaleTable,2,FALSE) / VLOOKUP(C$2,femaleTable,2,FALSE) -> 0.00038710614 | D3: =1-VLOOKUP(D$2+$B3,femaleTable,2,FALSE) / VLOOKUP(D$2,femaleTable,2,FALSE) -> 0.0004671101 | E3: =1-VLOOKUP(E$2+$B3,femaleTable,2,FALSE) / VLOOKUP(E$2,femaleTable,2,FALSE) -> 0.00058470142 | F3: =1-VLOOKUP(F$2+$B3,femaleTable,2,FALSE) / VLOOKUP(F$2,femaleTable,2,FALSE) -> 0.00067739444 | G3: =1-VLOOKUP(G$2+$B3,femaleTable,2,FALSE) / VLOOKUP(G$2,femaleTable,2,FALSE) -> 0.00079278134 | H3: =1-VLOOKUP(H$2+$B3,femaleTable,2,FALSE) / VLOOKUP(H$2,femaleTable,2,FALSE) -> 0.00092391354 | I3: =1-VLOOKUP(I$2+$B3,femaleTable,2,FALSE) / VLOOKUP(I$2,femaleTable,2,FALSE) -> 0.0011025033 | J3: =1-VLOOKUP(J$2+$B3,femaleTable,2,FALSE) / VLOOKUP(J$2,femaleTable,2,FALSE) -> 0.0013444406 | ... AB3: =1-VLOOKUP(AB$2+$B3,femaleTable,2,FALSE) / VLOOKUP(AB$2,femaleTable,2,FALSE) -> 0.03961082
B4: =B3+1 -> 2 | C4: =1-VLOOKUP(C$2+$B4,femaleTable,2,FALSE) / VLOOKUP(C$2,femaleTable,2,FALSE) -> 0.0007812689 | D4: =1-VLOOKUP(D$2+$B4,femaleTable,2,FALSE) / VLOOKUP(D$2,femaleTable,2,FALSE) -> 0.00096045101 | E4: =1-VLOOKUP(E$2+$B4,femaleTable,2,FALSE) / VLOOKUP(E$2,femaleTable,2,FALSE) -> 0.0011764718 | F4: =1-VLOOKUP(F$2+$B4,femaleTable,2,FALSE) / VLOOKUP(F$2,femaleTable,2,FALSE) -> 0.0014376939 | G4: =1-VLOOKUP(G$2+$B4,femaleTable,2,FALSE) / VLOOKUP(G$2,femaleTable,2,FALSE) -> 0.0016594746 | H4: =1-VLOOKUP(H$2+$B4,femaleTable,2,FALSE) / VLOOKUP(H$2,femaleTable,2,FALSE) -> 0.0019259186 | I4: =1-VLOOKUP(I$2+$B4,femaleTable,2,FALSE) / VLOOKUP(I$2,femaleTable,2,FALSE) -> 0.0023401523 | J4: =1-VLOOKUP(J$2+$B4,femaleTable,2,FALSE) / VLOOKUP(J$2,femaleTable,2,FALSE) -> 0.0028263808 | ... AB4: =1-VLOOKUP(AB$2+$B4,femaleTable,2,FALSE) / VLOOKUP(AB$2,femaleTable,2,FALSE) -> 0.082950683
B5: =B4+1 -> 3 | C5: =1-VLOOKUP(C$2+$B5,femaleTable,2,FALSE) / VLOOKUP(C$2,femaleTable,2,FALSE) -> 0.0012480141 | D5: =1-VLOOKUP(D$2+$B5,femaleTable,2,FALSE) / VLOOKUP(D$2,femaleTable,2,FALSE) -> 0.0015445909 | E5: =1-VLOOKUP(E$2+$B5,femaleTable,2,FALSE) / VLOOKUP(E$2,femaleTable,2,FALSE) -> 0.0018530693 | F5: =1-VLOOKUP(F$2+$B5,femaleTable,2,FALSE) / VLOOKUP(F$2,femaleTable,2,FALSE) -> 0.0022293354 | G5: =1-VLOOKUP(G$2+$B5,femaleTable,2,FALSE) / VLOOKUP(G$2,femaleTable,2,FALSE) -> 0.0025818549 | H5: =1-VLOOKUP(H$2+$B5,femaleTable,2,FALSE) / VLOOKUP(H$2,femaleTable,2,FALSE) -> 0.0030262986 | I5: =1-VLOOKUP(I$2+$B5,femaleTable,2,FALSE) / VLOOKUP(I$2,femaleTable,2,FALSE) -> 0.0036814466 | J5: =1-VLOOKUP(J$2+$B5,femaleTable,2,FALSE) / VLOOKUP(J$2,femaleTable,2,FALSE) -> 0.0044468391 | ... AB5: =1-VLOOKUP(AB$2+$B5,femaleTable,2,FALSE) / VLOOKUP(AB$2,femaleTable,2,FALSE) -> 0.12898398
B6: =B5+1 -> 4 | C6: =1-VLOOKUP(C$2+$B6,femaleTable,2,FALSE) / VLOOKUP(C$2,femaleTable,2,FALSE) -> 0.0017409695 | D6: =1-VLOOKUP(D$2+$B6,femaleTable,2,FALSE) / VLOOKUP(D$2,femaleTable,2,FALSE) -> 0.0021357928 | E6: =1-VLOOKUP(E$2+$B6,femaleTable,2,FALSE) / VLOOKUP(E$2,femaleTable,2,FALSE) -> 0.0026124742 | F6: =1-VLOOKUP(F$2+$B6,femaleTable,2,FALSE) / VLOOKUP(F$2,femaleTable,2,FALSE) -> 0.0030947826 | G6: =1-VLOOKUP(G$2+$B6,femaleTable,2,FALSE) / VLOOKUP(G$2,femaleTable,2,FALSE) -> 0.0035821971 | H6: =1-VLOOKUP(H$2+$B6,femaleTable,2,FALSE) / VLOOKUP(H$2,femaleTable,2,FALSE) -> 0.0042615639 | I6: =1-VLOOKUP(I$2+$B6,femaleTable,2,FALSE) / VLOOKUP(I$2,femaleTable,2,FALSE) -> 0.0051599189 | J6: =1-VLOOKUP(J$2+$B6,femaleTable,2,FALSE) / VLOOKUP(J$2,femaleTable,2,FALSE) -> 0.0061834082 | ... AB6: =1-VLOOKUP(AB$2+$B6,femaleTable,2,FALSE) / VLOOKUP(AB$2,femaleTable,2,FALSE) -> 0.17876649
B7: =B6+1 -> 5 | C7: =1-VLOOKUP(C$2+$B7,femaleTable,2,FALSE) / VLOOKUP(C$2,femaleTable,2,FALSE) -> 0.002324653 | D7: =1-VLOOKUP(D$2+$B7,femaleTable,2,FALSE) / VLOOKUP(D$2,femaleTable,2,FALSE) -> 0.0028117405 | E7: =1-VLOOKUP(E$2+$B7,femaleTable,2,FALSE) / VLOOKUP(E$2,femaleTable,2,FALSE) -> 0.0034031845 | F7: =1-VLOOKUP(F$2+$B7,femaleTable,2,FALSE) / VLOOKUP(F$2,femaleTable,2,FALSE) -> 0.0040158369 | G7: =1-VLOOKUP(G$2+$B7,femaleTable,2,FALSE) / VLOOKUP(G$2,femaleTable,2,FALSE) -> 0.0046807511 | H7: =1-VLOOKUP(H$2+$B7,femaleTable,2,FALSE) / VLOOKUP(H$2,femaleTable,2,FALSE) -> 0.005600275 | I7: =1-VLOOKUP(I$2+$B7,femaleTable,2,FALSE) / VLOOKUP(I$2,femaleTable,2,FALSE) -> 0.0067765851 | J7: =1-VLOOKUP(J$2+$B7,femaleTable,2,FALSE) / VLOOKUP(J$2,femaleTable,2,FALSE) -> 0.0081369211 | ... AB7: =1-VLOOKUP(AB$2+$B7,femaleTable,2,FALSE) / VLOOKUP(AB$2,femaleTable,2,FALSE) -> 0.2322622
B8: =B7+1 -> 6 | C8: =1-VLOOKUP(C$2+$B8,femaleTable,2,FALSE) / VLOOKUP(C$2,femaleTable,2,FALSE) -> 0.0029153931 | D8: =1-VLOOKUP(D$2+$B8,femaleTable,2,FALSE) / VLOOKUP(D$2,femaleTable,2,FALSE) -> 0.0035704161 | E8: =1-VLOOKUP(E$2+$B8,femaleTable,2,FALSE) / VLOOKUP(E$2,femaleTable,2,FALSE) -> 0.0042676135 | F8: =1-VLOOKUP(F$2+$B8,femaleTable,2,FALSE) / VLOOKUP(F$2,femaleTable,2,FALSE) -> 0.0050147409 | G8: =1-VLOOKUP(G$2+$B8,femaleTable,2,FALSE) / VLOOKUP(G$2,femaleTable,2,FALSE) -> 0.0059139665 | H8: =1-VLOOKUP(H$2+$B8,femaleTable,2,FALSE) / VLOOKUP(H$2,femaleTable,2,FALSE) -> 0.0070758999 | I8: =1-VLOOKUP(I$2+$B8,femaleTable,2,FALSE) / VLOOKUP(I$2,femaleTable,2,FALSE) -> 0.0085090903 | J8: =1-VLOOKUP(J$2+$B8,femaleTable,2,FALSE) / VLOOKUP(J$2,femaleTable,2,FALSE) -> 0.010170897 | ... AB8: =1-VLOOKUP(AB$2+$B8,femaleTable,2,FALSE) / VLOOKUP(AB$2,femaleTable,2,FALSE) -> 0.28888201
B9: =B8+1 -> 7 | C9: =1-VLOOKUP(C$2+$B9,femaleTable,2,FALSE) / VLOOKUP(C$2,femaleTable,2,FALSE) -> 0.0035908127 | D9: =1-VLOOKUP(D$2+$B9,femaleTable,2,FALSE) / VLOOKUP(D$2,femaleTable,2,FALSE) -> 0.0043603669 | E9: =1-VLOOKUP(E$2+$B9,femaleTable,2,FALSE) / VLOOKUP(E$2,femaleTable,2,FALSE) -> 0.0051875841 | F9: =1-VLOOKUP(F$2+$B9,femaleTable,2,FALSE) / VLOOKUP(F$2,femaleTable,2,FALSE) -> 0.0061117155 | G9: =1-VLOOKUP(G$2+$B9,femaleTable,2,FALSE) / VLOOKUP(G$2,femaleTable,2,FALSE) -> 0.0072504561 | H9: =1-VLOOKUP(H$2+$B9,femaleTable,2,FALSE) / VLOOKUP(H$2,femaleTable,2,FALSE) -> 0.0086894525 | I9: =1-VLOOKUP(I$2+$B9,femaleTable,2,FALSE) / VLOOKUP(I$2,femaleTable,2,FALSE) -> 0.010458032 | J9: =1-VLOOKUP(J$2+$B9,femaleTable,2,FALSE) / VLOOKUP(J$2,femaleTable,2,FALSE) -> 0.012382094 | ... AB9: =1-VLOOKUP(AB$2+$B9,femaleTable,2,FALSE) / VLOOKUP(AB$2,femaleTable,2,FALSE) -> 0.348986
B10: =B9+1 -> 8 | C10: =1-VLOOKUP(C$2+$B10,femaleTable,2,FALSE) / VLOOKUP(C$2,femaleTable,2,FALSE) -> 0.0043488955 | D10: =1-VLOOKUP(D$2+$B10,femaleTable,2,FALSE) / VLOOKUP(D$2,femaleTable,2,FALSE) -> 0.0052239657 | E10: =1-VLOOKUP(E$2+$B10,femaleTable,2,FALSE) / VLOOKUP(E$2,femaleTable,2,FALSE) -> 0.006185313 | F10: =1-VLOOKUP(F$2+$B10,femaleTable,2,FALSE) / VLOOKUP(F$2,femaleTable,2,FALSE) -> 0.0073431579 | G10: =1-VLOOKUP(G$2+$B10,femaleTable,2,FALSE) / VLOOKUP(G$2,femaleTable,2,FALSE) -> 0.0087236322 | H10: =1-VLOOKUP(H$2+$B10,femaleTable,2,FALSE) / VLOOKUP(H$2,femaleTable,2,FALSE) -> 0.010418621 | I10: =1-VLOOKUP(I$2+$B10,femaleTable,2,FALSE) / VLOOKUP(I$2,femaleTable,2,FALSE) -> 0.012487248 | J10: =1-VLOOKUP(J$2+$B10,femaleTable,2,FALSE) / VLOOKUP(J$2,femaleTable,2,FALSE) -> 0.014804124 | ... AB10: =1-VLOOKUP(AB$2+$B10,femaleTable,2,FALSE) / VLOOKUP(AB$2,femaleTable,2,FALSE) -> 0.41143055
B11: =B10+1 -> 9 | C11: =1-VLOOKUP(C$2+$B11,femaleTable,2,FALSE) / VLOOKUP(C$2,femaleTable,2,FALSE) -> 0.0051382292 | D11: =1-VLOOKUP(D$2+$B11,femaleTable,2,FALSE) / VLOOKUP(D$2,femaleTable,2,FALSE) -> 0.0061430527 | E11: =1-VLOOKUP(E$2+$B11,femaleTable,2,FALSE) / VLOOKUP(E$2,femaleTable,2,FALSE) -> 0.007280997 | F11: =1-VLOOKUP(F$2+$B11,femaleTable,2,FALSE) / VLOOKUP(F$2,femaleTable,2,FALSE) -> 0.0086777261 | G11: =1-VLOOKUP(G$2+$B11,femaleTable,2,FALSE) / VLOOKUP(G$2,femaleTable,2,FALSE) -> 0.010334507 | H11: =1-VLOOKUP(H$2+$B11,femaleTable,2,FALSE) / VLOOKUP(H$2,femaleTable,2,FALSE) -> 0.012363809 | I11: =1-VLOOKUP(I$2+$B11,femaleTable,2,FALSE) / VLOOKUP(I$2,femaleTable,2,FALSE) -> 0.01469327 | J11: =1-VLOOKUP(J$2+$B11,femaleTable,2,FALSE) / VLOOKUP(J$2,femaleTable,2,FALSE) -> 0.017347358 | ... AB11: =1-VLOOKUP(AB$2+$B11,femaleTable,2,FALSE) / VLOOKUP(AB$2,femaleTable,2,FALSE) -> 0.47487613
B12: =B11+1 -> 10 | C12: =1-VLOOKUP(C$2+$B12,femaleTable,2,FALSE) / VLOOKUP(C$2,femaleTable,2,FALSE) -> 0.0060011533 | D12: =1-VLOOKUP(D$2+$B12,femaleTable,2,FALSE) / VLOOKUP(D$2,femaleTable,2,FALSE) -> 0.0071398233 | E12: =1-VLOOKUP(E$2+$B12,femaleTable,2,FALSE) / VLOOKUP(E$2,femaleTable,2,FALSE) -> 0.0085109907 | F12: =1-VLOOKUP(F$2+$B12,femaleTable,2,FALSE) / VLOOKUP(F$2,femaleTable,2,FALSE) -> 0.010148784 | G12: =1-VLOOKUP(G$2+$B12,femaleTable,2,FALSE) / VLOOKUP(G$2,femaleTable,2,FALSE) -> 0.012060806 | H12: =1-VLOOKUP(H$2+$B12,femaleTable,2,FALSE) / VLOOKUP(H$2,femaleTable,2,FALSE) -> 0.014389117 | I12: =1-VLOOKUP(I$2+$B12,femaleTable,2,FALSE) / VLOOKUP(I$2,femaleTable,2,FALSE) -> 0.017109633 | J12: =1-VLOOKUP(J$2+$B12,femaleTable,2,FALSE) / VLOOKUP(J$2,femaleTable,2,FALSE) -> 0.020063739 | ... AB12: =1-VLOOKUP(AB$2+$B12,femaleTable,2,FALSE) / VLOOKUP(AB$2,femaleTable,2,FALSE) -> 0.53873653
B13: =B12+1 -> 11 | C13: =1-VLOOKUP(C$2+$B13,femaleTable,2,FALSE) / VLOOKUP(C$2,femaleTable,2,FALSE) -> 0.0069195222 | D13: =1-VLOOKUP(D$2+$B13,femaleTable,2,FALSE) / VLOOKUP(D$2,femaleTable,2,FALSE) -> 0.008234455 | E13: =1-VLOOKUP(E$2+$B13,femaleTable,2,FALSE) / VLOOKUP(E$2,femaleTable,2,FALSE) -> 0.0098439887 | F13: =1-VLOOKUP(F$2+$B13,femaleTable,2,FALSE) / VLOOKUP(F$2,femaleTable,2,FALSE) -> 0.011757343 | G13: =1-VLOOKUP(G$2+$B13,femaleTable,2,FALSE) / VLOOKUP(G$2,femaleTable,2,FALSE) -> 0.014002766 | H13: =1-VLOOKUP(H$2+$B13,femaleTable,2,FALSE) / VLOOKUP(H$2,femaleTable,2,FALSE) -> 0.016590891 | I13: =1-VLOOKUP(I$2+$B13,femaleTable,2,FALSE) / VLOOKUP(I$2,femaleTable,2,FALSE) -> 0.019646914 | J13: =1-VLOOKUP(J$2+$B13,femaleTable,2,FALSE) / VLOOKUP(J$2,femaleTable,2,FALSE) -> 0.022968545 | ... AB13: =1-VLOOKUP(AB$2+$B13,femaleTable,2,FALSE) / VLOOKUP(AB$2,femaleTable,2,FALSE) -> 0.60168232
A14: t | B14: =B13+1 -> 12 | C14: =1-VLOOKUP(C$2+$B14,femaleTable,2,FALSE) / VLOOKUP(C$2,femaleTable,2,FALSE) -> 0.0079155141 | D14: =1-VLOOKUP(D$2+$B14,femaleTable,2,FALSE) / VLOOKUP(D$2,femaleTable,2,FALSE) -> 0.0094632673 | E14: =1-VLOOKUP(E$2+$B14,femaleTable,2,FALSE) / VLOOKUP(E$2,femaleTable,2,FALSE) -> 0.011313316 | F14: =1-VLOOKUP(F$2+$B14,femaleTable,2,FALSE) / VLOOKUP(F$2,femaleTable,2,FALSE) -> 0.01348116 | G14: =1-VLOOKUP(G$2+$B14,femaleTable,2,FALSE) / VLOOKUP(G$2,femaleTable,2,FALSE) -> 0.016024713 | H14: =1-VLOOKUP(H$2+$B14,femaleTable,2,FALSE) / VLOOKUP(H$2,femaleTable,2,FALSE) -> 0.019002599 | I14: =1-VLOOKUP(I$2+$B14,femaleTable,2,FALSE) / VLOOKUP(I$2,femaleTable,2,FALSE) -> 0.022356939 | J14: =1-VLOOKUP(J$2+$B14,femaleTable,2,FALSE) / VLOOKUP(J$2,femaleTable,2,FALSE) -> 0.026175851 | ... AB14: =1-VLOOKUP(AB$2+$B14,femaleTable,2,FALSE) / VLOOKUP(AB$2,femaleTable,2,FALSE) -> 0.66280031
B15: =B14+1 -> 13 | C15: =1-VLOOKUP(C$2+$B15,femaleTable,2,FALSE) / VLOOKUP(C$2,femaleTable,2,FALSE) -> 0.0090092905 | D15: =1-VLOOKUP(D$2+$B15,femaleTable,2,FALSE) / VLOOKUP(D$2,femaleTable,2,FALSE) -> 0.010794985 | E15: =1-VLOOKUP(E$2+$B15,femaleTable,2,FALSE) / VLOOKUP(E$2,femaleTable,2,FALSE) -> 0.012919983 | F15: =1-VLOOKUP(F$2+$B15,femaleTable,2,FALSE) / VLOOKUP(F$2,femaleTable,2,FALSE) -> 0.015420328 | G15: =1-VLOOKUP(G$2+$B15,femaleTable,2,FALSE) / VLOOKUP(G$2,femaleTable,2,FALSE) -> 0.018222833 | H15: =1-VLOOKUP(H$2+$B15,femaleTable,2,FALSE) / VLOOKUP(H$2,femaleTable,2,FALSE) -> 0.021534995 | I15: =1-VLOOKUP(I$2+$B15,femaleTable,2,FALSE) / VLOOKUP(I$2,femaleTable,2,FALSE) -> 0.025254948 | J15: =1-VLOOKUP(J$2+$B15,femaleTable,2,FALSE) / VLOOKUP(J$2,femaleTable,2,FALSE) -> 0.02971723 | ... AB15: =1-VLOOKUP(AB$2+$B15,femaleTable,2,FALSE) / VLOOKUP(AB$2,femaleTable,2,FALSE) -> 0.72047013
B16: =B15+1 -> 14 | C16: =1-VLOOKUP(C$2+$B16,femaleTable,2,FALSE) / VLOOKUP(C$2,femaleTable,2,FALSE) -> 0.010237143 | D16: =1-VLOOKUP(D$2+$B16,femaleTable,2,FALSE) / VLOOKUP(D$2,femaleTable,2,FALSE) -> 0.012262901 | E16: =1-VLOOKUP(E$2+$B16,femaleTable,2,FALSE) / VLOOKUP(E$2,femaleTable,2,FALSE) -> 0.014641772 | F16: =1-VLOOKUP(F$2+$B16,femaleTable,2,FALSE) / VLOOKUP(F$2,femaleTable,2,FALSE) -> 0.017439368 | G16: =1-VLOOKUP(G$2+$B16,femaleTable,2,FALSE) / VLOOKUP(G$2,femaleTable,2,FALSE) -> 0.02063054 | H16: =1-VLOOKUP(H$2+$B16,femaleTable,2,FALSE) / VLOOKUP(H$2,femaleTable,2,FALSE) -> 0.0242398 | I16: =1-VLOOKUP(I$2+$B16,femaleTable,2,FALSE) / VLOOKUP(I$2,femaleTable,2,FALSE) -> 0.028454748 | J16: =1-VLOOKUP(J$2+$B16,femaleTable,2,FALSE) / VLOOKUP(J$2,femaleTable,2,FALSE) -> 0.033528515 | ... AB16: =1-VLOOKUP(AB$2+$B16,femaleTable,2,FALSE) / VLOOKUP(AB$2,femaleTable,2,FALSE) -> 0.77346028
B17: =B16+1 -> 15 | C17: =1-VLOOKUP(C$2+$B17,femaleTable,2,FALSE) / VLOOKUP(C$2,femaleTable,2,FALSE) -> 0.01156782 | D17: =1-VLOOKUP(D$2+$B17,femaleTable,2,FALSE) / VLOOKUP(D$2,femaleTable,2,FALSE) -> 0.013868025 | E17: =1-VLOOKUP(E$2+$B17,femaleTable,2,FALSE) / VLOOKUP(E$2,femaleTable,2,FALSE) -> 0.016578658 | F17: =1-VLOOKUP(F$2+$B17,femaleTable,2,FALSE) / VLOOKUP(F$2,femaleTable,2,FALSE) -> 0.019634328 | G17: =1-VLOOKUP(G$2+$B17,femaleTable,2,FALSE) / VLOOKUP(G$2,femaleTable,2,FALSE) -> 0.023158732 | H17: =1-VLOOKUP(H$2+$B17,femaleTable,2,FALSE) / VLOOKUP(H$2,femaleTable,2,FALSE) -> 0.027132227 | I17: =1-VLOOKUP(I$2+$B17,femaleTable,2,FALSE) / VLOOKUP(I$2,femaleTable,2,FALSE) -> 0.031987839 | J17: =1-VLOOKUP(J$2+$B17,femaleTable,2,FALSE) / VLOOKUP(J$2,femaleTable,2,FALSE) -> 0.037749243 | ... AB17: =1-VLOOKUP(AB$2+$B17,femaleTable,2,FALSE) / VLOOKUP(AB$2,femaleTable,2,FALSE) -> 0.82055079
B18: =B17+1 -> 16 | C18: =1-VLOOKUP(C$2+$B18,femaleTable,2,FALSE) / VLOOKUP(C$2,femaleTable,2,FALSE) -> 0.01303459 | D18: =1-VLOOKUP(D$2+$B18,femaleTable,2,FALSE) / VLOOKUP(D$2,femaleTable,2,FALSE) -> 0.01558816 | E18: =1-VLOOKUP(E$2+$B18,femaleTable,2,FALSE) / VLOOKUP(E$2,femaleTable,2,FALSE) -> 0.018595323 | F18: =1-VLOOKUP(F$2+$B18,femaleTable,2,FALSE) / VLOOKUP(F$2,femaleTable,2,FALSE) -> 0.022038573 | G18: =1-VLOOKUP(G$2+$B18,femaleTable,2,FALSE) / VLOOKUP(G$2,femaleTable,2,FALSE) -> 0.025859049 | H18: =1-VLOOKUP(H$2+$B18,femaleTable,2,FALSE) / VLOOKUP(H$2,femaleTable,2,FALSE) -> 0.030325865 | I18: =1-VLOOKUP(I$2+$B18,femaleTable,2,FALSE) / VLOOKUP(I$2,femaleTable,2,FALSE) -> 0.035790205 | J18: =1-VLOOKUP(J$2+$B18,femaleTable,2,FALSE) / VLOOKUP(J$2,femaleTable,2,FALSE) -> 0.042278582 | ... AB18: =1-VLOOKUP(AB$2+$B18,femaleTable,2,FALSE) / VLOOKUP(AB$2,femaleTable,2,FALSE) -> 0.86186409
B19: =B18+1 -> 17 | C19: =1-VLOOKUP(C$2+$B19,femaleTable,2,FALSE) / VLOOKUP(C$2,femaleTable,2,FALSE) -> 0.014638459 | D19: =1-VLOOKUP(D$2+$B19,femaleTable,2,FALSE) / VLOOKUP(D$2,femaleTable,2,FALSE) -> 0.017523187 | E19: =1-VLOOKUP(E$2+$B19,femaleTable,2,FALSE) / VLOOKUP(E$2,femaleTable,2,FALSE) -> 0.020787701 | F19: =1-VLOOKUP(F$2+$B19,femaleTable,2,FALSE) / VLOOKUP(F$2,femaleTable,2,FALSE) -> 0.024563131 | G19: =1-VLOOKUP(G$2+$B19,femaleTable,2,FALSE) / VLOOKUP(G$2,femaleTable,2,FALSE) -> 0.028746676 | H19: =1-VLOOKUP(H$2+$B19,femaleTable,2,FALSE) / VLOOKUP(H$2,femaleTable,2,FALSE) -> 0.033852152 | I19: =1-VLOOKUP(I$2+$B19,femaleTable,2,FALSE) / VLOOKUP(I$2,femaleTable,2,FALSE) -> 0.040001057 | J19: =1-VLOOKUP(J$2+$B19,femaleTable,2,FALSE) / VLOOKUP(J$2,femaleTable,2,FALSE) -> 0.047303938 | ... AB19: =1-VLOOKUP(AB$2+$B19,femaleTable,2,FALSE) / VLOOKUP(AB$2,femaleTable,2,FALSE) -> 0.89683701
B20: =B19+1 -> 18 | C20: =1-VLOOKUP(C$2+$B20,femaleTable,2,FALSE) / VLOOKUP(C$2,femaleTable,2,FALSE) -> 0.016357251 | D20: =1-VLOOKUP(D$2+$B20,femaleTable,2,FALSE) / VLOOKUP(D$2,femaleTable,2,FALSE) -> 0.019537914 | E20: =1-VLOOKUP(E$2+$B20,femaleTable,2,FALSE) / VLOOKUP(E$2,femaleTable,2,FALSE) -> 0.023189117 | F20: =1-VLOOKUP(F$2+$B20,femaleTable,2,FALSE) / VLOOKUP(F$2,femaleTable,2,FALSE) -> 0.027259565 | G20: =1-VLOOKUP(G$2+$B20,femaleTable,2,FALSE) / VLOOKUP(G$2,femaleTable,2,FALSE) -> 0.031935014 | H20: =1-VLOOKUP(H$2+$B20,femaleTable,2,FALSE) / VLOOKUP(H$2,femaleTable,2,FALSE) -> 0.037647195 | I20: =1-VLOOKUP(I$2+$B20,femaleTable,2,FALSE) / VLOOKUP(I$2,femaleTable,2,FALSE) -> 0.044519796 | J20: =1-VLOOKUP(J$2+$B20,femaleTable,2,FALSE) / VLOOKUP(J$2,femaleTable,2,FALSE) -> 0.052672534 | ... AB20: =1-VLOOKUP(AB$2+$B20,femaleTable,2,FALSE) / VLOOKUP(AB$2,femaleTable,2,FALSE) -> 0.92550988
B21: =B20+1 -> 19 | C21: =1-VLOOKUP(C$2+$B21,femaleTable,2,FALSE) / VLOOKUP(C$2,femaleTable,2,FALSE) -> 0.018290765 | D21: =1-VLOOKUP(D$2+$B21,femaleTable,2,FALSE) / VLOOKUP(D$2,femaleTable,2,FALSE) -> 0.021728186 | E21: =1-VLOOKUP(E$2+$B21,femaleTable,2,FALSE) / VLOOKUP(E$2,femaleTable,2,FALSE) -> 0.025710705 | F21: =1-VLOOKUP(F$2+$B21,femaleTable,2,FALSE) / VLOOKUP(F$2,femaleTable,2,FALSE) -> 0.030143041 | G21: =1-VLOOKUP(G$2+$B21,femaleTable,2,FALSE) / VLOOKUP(G$2,femaleTable,2,FALSE) -> 0.035455449 | H21: =1-VLOOKUP(H$2+$B21,femaleTable,2,FALSE) / VLOOKUP(H$2,femaleTable,2,FALSE) -> 0.041849937 | I21: =1-VLOOKUP(I$2+$B21,femaleTable,2,FALSE) / VLOOKUP(I$2,femaleTable,2,FALSE) -> 0.049533392 | J21: =1-VLOOKUP(J$2+$B21,femaleTable,2,FALSE) / VLOOKUP(J$2,femaleTable,2,FALSE) -> 0.058783628 | ... AB21: =1-VLOOKUP(AB$2+$B21,femaleTable,2,FALSE) / VLOOKUP(AB$2,femaleTable,2,FALSE) -> 0.94783085
B22: =B21+1 -> 20 | C22: =1-VLOOKUP(C$2+$B22,femaleTable,2,FALSE) / VLOOKUP(C$2,femaleTable,2,FALSE) -> 0.020303919 | D22: =1-VLOOKUP(D$2+$B22,femaleTable,2,FALSE) / VLOOKUP(D$2,femaleTable,2,FALSE) -> 0.024127296 | E22: =1-VLOOKUP(E$2+$B22,femaleTable,2,FALSE) / VLOOKUP(E$2,femaleTable,2,FALSE) -> 0.028403967 | F22: =1-VLOOKUP(F$2+$B22,femaleTable,2,FALSE) / VLOOKUP(F$2,femaleTable,2,FALSE) -> 0.033326795 | G22: =1-VLOOKUP(G$2+$B22,femaleTable,2,FALSE) / VLOOKUP(G$2,femaleTable,2,FALSE) -> 0.039244195 | H22: =1-VLOOKUP(H$2+$B22,femaleTable,2,FALSE) / VLOOKUP(H$2,femaleTable,2,FALSE) -> 0.046359973 | I22: =1-VLOOKUP(I$2+$B22,femaleTable,2,FALSE) / VLOOKUP(I$2,femaleTable,2,FALSE) -> 0.054889425 | J22: =1-VLOOKUP(J$2+$B22,femaleTable,2,FALSE) / VLOOKUP(J$2,femaleTable,2,FALSE) -> 0.065201294 | ... AB22: =1-VLOOKUP(AB$2+$B22,femaleTable,2,FALSE) / VLOOKUP(AB$2,femaleTable,2,FALSE) -> 0.96452008
B23: =B22+1 -> 21 | C23: =1-VLOOKUP(C$2+$B23,femaleTable,2,FALSE) / VLOOKUP(C$2,femaleTable,2,FALSE) -> 0.02249248 | D23: =1-VLOOKUP(D$2+$B23,femaleTable,2,FALSE) / VLOOKUP(D$2,femaleTable,2,FALSE) -> 0.026646462 | E23: =1-VLOOKUP(E$2+$B23,femaleTable,2,FALSE) / VLOOKUP(E$2,femaleTable,2,FALSE) -> 0.031284051 | F23: =1-VLOOKUP(F$2+$B23,femaleTable,2,FALSE) / VLOOKUP(F$2,femaleTable,2,FALSE) -> 0.036842169 | G23: =1-VLOOKUP(G$2+$B23,femaleTable,2,FALSE) / VLOOKUP(G$2,femaleTable,2,FALSE) -> 0.043439962 | H23: =1-VLOOKUP(H$2+$B23,femaleTable,2,FALSE) / VLOOKUP(H$2,femaleTable,2,FALSE) -> 0.051363913 | I23: =1-VLOOKUP(I$2+$B23,femaleTable,2,FALSE) / VLOOKUP(I$2,femaleTable,2,FALSE) -> 0.060986217 | J23: =1-VLOOKUP(J$2+$B23,femaleTable,2,FALSE) / VLOOKUP(J$2,femaleTable,2,FALSE) -> 0.072098682 | ... AB23: =1-VLOOKUP(AB$2+$B23,femaleTable,2,FALSE) / VLOOKUP(AB$2,femaleTable,2,FALSE) -> 0.97663759
B24: =B23+1 -> 22 | C24: =1-VLOOKUP(C$2+$B24,femaleTable,2,FALSE) / VLOOKUP(C$2,femaleTable,2,FALSE) -> 0.024889715 | D24: =1-VLOOKUP(D$2+$B24,femaleTable,2,FALSE) / VLOOKUP(D$2,femaleTable,2,FALSE) -> 0.029337137 | E24: =1-VLOOKUP(E$2+$B24,femaleTable,2,FALSE) / VLOOKUP(E$2,femaleTable,2,FALSE) -> 0.034464059 | F24: =1-VLOOKUP(F$2+$B24,femaleTable,2,FALSE) / VLOOKUP(F$2,femaleTable,2,FALSE) -> 0.040625468 | G24: =1-VLOOKUP(G$2+$B24,femaleTable,2,FALSE) / VLOOKUP(G$2,femaleTable,2,FALSE) -> 0.047942515 | H24: =1-VLOOKUP(H$2+$B24,femaleTable,2,FALSE) / VLOOKUP(H$2,femaleTable,2,FALSE) -> 0.056709631 | I24: =1-VLOOKUP(I$2+$B24,femaleTable,2,FALSE) / VLOOKUP(I$2,femaleTable,2,FALSE) -> 0.067388866 | J24: =1-VLOOKUP(J$2+$B24,femaleTable,2,FALSE) / VLOOKUP(J$2,femaleTable,2,FALSE) -> 0.079626531 | ... AB24: =1-VLOOKUP(AB$2+$B24,femaleTable,2,FALSE) / VLOOKUP(AB$2,femaleTable,2,FALSE) -> 0.98515596
B25: =B24+1 -> 23 | C25: =1-VLOOKUP(C$2+$B25,femaleTable,2,FALSE) / VLOOKUP(C$2,femaleTable,2,FALSE) -> 0.027406913 | D25: =1-VLOOKUP(D$2+$B25,femaleTable,2,FALSE) / VLOOKUP(D$2,femaleTable,2,FALSE) -> 0.032214455 | E25: =1-VLOOKUP(E$2+$B25,femaleTable,2,FALSE) / VLOOKUP(E$2,femaleTable,2,FALSE) -> 0.037975297 | F25: =1-VLOOKUP(F$2+$B25,femaleTable,2,FALSE) / VLOOKUP(F$2,femaleTable,2,FALSE) -> 0.044815203 | G25: =1-VLOOKUP(G$2+$B25,femaleTable,2,FALSE) / VLOOKUP(G$2,femaleTable,2,FALSE) -> 0.052938151 | H25: =1-VLOOKUP(H$2+$B25,femaleTable,2,FALSE) / VLOOKUP(H$2,femaleTable,2,FALSE) -> 0.062794681 | I25: =1-VLOOKUP(I$2+$B25,femaleTable,2,FALSE) / VLOOKUP(I$2,femaleTable,2,FALSE) -> 0.074270112 | J25: =1-VLOOKUP(J$2+$B25,femaleTable,2,FALSE) / VLOOKUP(J$2,femaleTable,2,FALSE) -> 0.087698267 | ... AB25: =1-VLOOKUP(AB$2+$B25,femaleTable,2,FALSE) / VLOOKUP(AB$2,femaleTable,2,FALSE) -> 0.99093425
B26: =B25+1 -> 24 | C26: =1-VLOOKUP(C$2+$B26,femaleTable,2,FALSE) / VLOOKUP(C$2,femaleTable,2,FALSE) -> 0.030095486 | D26: =1-VLOOKUP(D$2+$B26,femaleTable,2,FALSE) / VLOOKUP(D$2,femaleTable,2,FALSE) -> 0.035391409 | E26: =1-VLOOKUP(E$2+$B26,femaleTable,2,FALSE) / VLOOKUP(E$2,femaleTable,2,FALSE) -> 0.041754145 | F26: =1-VLOOKUP(F$2+$B26,femaleTable,2,FALSE) / VLOOKUP(F$2,femaleTable,2,FALSE) -> 0.049311282 | G26: =1-VLOOKUP(G$2+$B26,femaleTable,2,FALSE) / VLOOKUP(G$2,femaleTable,2,FALSE) -> 0.058274997 | H26: =1-VLOOKUP(H$2+$B26,femaleTable,2,FALSE) / VLOOKUP(H$2,femaleTable,2,FALSE) -> 0.069184999 | I26: =1-VLOOKUP(I$2+$B26,femaleTable,2,FALSE) / VLOOKUP(I$2,femaleTable,2,FALSE) -> 0.081780345 | J26: =1-VLOOKUP(J$2+$B26,femaleTable,2,FALSE) / VLOOKUP(J$2,femaleTable,2,FALSE) -> 0.096413705 | ... AB26: =1-VLOOKUP(AB$2+$B26,femaleTable,2,FALSE) / VLOOKUP(AB$2,femaleTable,2,FALSE) -> 0.9947018
... B32: =B31+1 -> 30 | C32: =1-VLOOKUP(C$2+$B32,femaleTable,2,FALSE) / VLOOKUP(C$2,femaleTable,2,FALSE) -> 0.052082913 | D32: =1-VLOOKUP(D$2+$B32,femaleTable,2,FALSE) / VLOOKUP(D$2,femaleTable,2,FALSE) -> 0.061637347 | E32: =1-VLOOKUP(E$2+$B32,femaleTable,2,FALSE) / VLOOKUP(E$2,femaleTable,2,FALSE) -> 0.073157357 | F32: =1-VLOOKUP(F$2+$B32,femaleTable,2,FALSE) / VLOOKUP(F$2,femaleTable,2,FALSE) -> 0.086384978 | G32: =1-VLOOKUP(G$2+$B32,femaleTable,2,FALSE) / VLOOKUP(G$2,femaleTable,2,FALSE) -> 0.10175748 | H32: =1-VLOOKUP(H$2+$B32,femaleTable,2,FALSE) / VLOOKUP(H$2,femaleTable,2,FALSE) -> 0.12000329 | I32: =1-VLOOKUP(I$2+$B32,femaleTable,2,FALSE) / VLOOKUP(I$2,femaleTable,2,FALSE) -> 0.14154416 | J32: =1-VLOOKUP(J$2+$B32,femaleTable,2,FALSE) / VLOOKUP(J$2,femaleTable,2,FALSE) -> 0.16751322 | ... AB32: =1-VLOOKUP(AB$2+$B32,femaleTable,2,FALSE) / VLOOKUP(AB$2,femaleTable,2,FALSE) -> 0.9999425
B34: Rule of Thumb tqx
C35: 30 | D35: =C35+2 -> 32 | E35: =D35+2 -> 34 | F35: =E35+2 -> 36 | G35: =F35+2 -> 38 | H35: =G35+2 -> 40 | I35: =H35+2 -> 42 | J35: =I35+2 -> 44 | K35: =J35+2 -> 46 | ... AB35: =AA35+2 -> 80
B36: 1 | C36: =VLOOKUP(C$35+$B36/2,femaleTable,4,TRUE) * $B36 -> 0.00042621588 | D36: =VLOOKUP(D$35+$B36/2,femaleTable,4,TRUE) * $B36 -> 0.00050547968 | E36: =VLOOKUP(E$35+$B36/2,femaleTable,4,TRUE) * $B36 -> 0.00059948425 | F36: =VLOOKUP(F$35+$B36/2,femaleTable,4,TRUE) * $B36 -> 0.00071097094 | G36: =VLOOKUP(G$35+$B36/2,femaleTable,4,TRUE) * $B36 -> 0.00084319093 | H36: =VLOOKUP(H$35+$B36/2,femaleTable,4,TRUE) * $B36 -> 0.001 | I36: =VLOOKUP(I$35+$B36/2,femaleTable,4,TRUE) * $B36 -> 0.001185971 | J36: =VLOOKUP(J$35+$B36/2,femaleTable,4,TRUE) * $B36 -> 0.0014065272 | ... AB36: =VLOOKUP(AB$35+$B36/2,femaleTable,4,TRUE) * $B36 -> 0.044668359
B37: =B36+1 -> 2 | C37: =VLOOKUP(C$35+$B37/2,femaleTable,4,TRUE) * $B37 -> 0.00092831777 | D37: =VLOOKUP(D$35+$B37/2,femaleTable,4,TRUE) * $B37 -> 0.001100958 | E37: =VLOOKUP(E$35+$B37/2,femaleTable,4,TRUE) * $B37 -> 0.0013057042 | F37: =VLOOKUP(F$35+$B37/2,femaleTable,4,TRUE) * $B37 -> 0.0015485274 | G37: =VLOOKUP(G$35+$B37/2,femaleTable,4,TRUE) * $B37 -> 0.0018365086 | H37: =VLOOKUP(H$35+$B37/2,femaleTable,4,TRUE) * $B37 -> 0.0021780459 | I37: =VLOOKUP(I$35+$B37/2,femaleTable,4,TRUE) * $B37 -> 0.0025830993 | J37: =VLOOKUP(J$35+$B37/2,femaleTable,4,TRUE) * $B37 -> 0.0030634809 | ... AB37: =VLOOKUP(AB$35+$B37/2,femaleTable,4,TRUE) * $B37 -> 0.10023745
B38: =B37+1 -> 3 | C38: =VLOOKUP(C$35+$B38/2,femaleTable,4,TRUE) * $B38 -> 0.0013924767 | D38: =VLOOKUP(D$35+$B38/2,femaleTable,4,TRUE) * $B38 -> 0.0016514369 | E38: =VLOOKUP(E$35+$B38/2,femaleTable,4,TRUE) * $B38 -> 0.0019585563 | F38: =VLOOKUP(F$35+$B38/2,femaleTable,4,TRUE) * $B38 -> 0.002322791 | G38: =VLOOKUP(G$35+$B38/2,femaleTable,4,TRUE) * $B38 -> 0.0027547629 | H38: =VLOOKUP(H$35+$B38/2,femaleTable,4,TRUE) * $B38 -> 0.0032670689 | I38: =VLOOKUP(I$35+$B38/2,femaleTable,4,TRUE) * $B38 -> 0.003874649 | J38: =VLOOKUP(J$35+$B38/2,femaleTable,4,TRUE) * $B38 -> 0.0045952214 | ... AB38: =VLOOKUP(AB$35+$B38/2,femaleTable,4,TRUE) * $B38 -> 0.15035617
B39: =B38+1 -> 4 | C39: =VLOOKUP(C$35+$B39/2,femaleTable,4,TRUE) * $B39 -> 0.0020219187 | D39: =VLOOKUP(D$35+$B39/2,femaleTable,4,TRUE) * $B39 -> 0.002397937 | E39: =VLOOKUP(E$35+$B39/2,femaleTable,4,TRUE) * $B39 -> 0.0028438838 | F39: =VLOOKUP(F$35+$B39/2,femaleTable,4,TRUE) * $B39 -> 0.0033727637 | G39: =VLOOKUP(G$35+$B39/2,femaleTable,4,TRUE) * $B39 -> 0.004 | H39: =VLOOKUP(H$35+$B39/2,femaleTable,4,TRUE) * $B39 -> 0.004743884 | I39: =VLOOKUP(I$35+$B39/2,femaleTable,4,TRUE) * $B39 -> 0.005626109 | J39: =VLOOKUP(J$35+$B39/2,femaleTable,4,TRUE) * $B39 -> 0.0066724021 | ... AB39: =VLOOKUP(AB$35+$B39/2,femaleTable,4,TRUE) * $B39 -> 0.22493653
B40: =B39+1 -> 5 | C40: =VLOOKUP(C$35+$B40/2,femaleTable,4,TRUE) * $B40 -> 0.0025273984 | D40: =VLOOKUP(D$35+$B40/2,femaleTable,4,TRUE) * $B40 -> 0.0029974213 | E40: =VLOOKUP(E$35+$B40/2,femaleTable,4,TRUE) * $B40 -> 0.0035548547 | F40: =VLOOKUP(F$35+$B40/2,femaleTable,4,TRUE) * $B40 -> 0.0042159546 | G40: =VLOOKUP(G$35+$B40/2,femaleTable,4,TRUE) * $B40 -> 0.005 | H40: =VLOOKUP(H$35+$B40/2,femaleTable,4,TRUE) * $B40 -> 0.0059298551 | I40: =VLOOKUP(I$35+$B40/2,femaleTable,4,TRUE) * $B40 -> 0.0070326362 | J40: =VLOOKUP(J$35+$B40/2,femaleTable,4,TRUE) * $B40 -> 0.0083405027 | ... AB40: =VLOOKUP(AB$35+$B40/2,femaleTable,4,TRUE) * $B40 -> 0.28117066
B41: =B40+1 -> 6 | C41: =VLOOKUP(C$35+$B41/2,femaleTable,4,TRUE) * $B41 -> 0.0033028739 | D41: =VLOOKUP(D$35+$B41/2,femaleTable,4,TRUE) * $B41 -> 0.0039171127 | E41: =VLOOKUP(E$35+$B41/2,femaleTable,4,TRUE) * $B41 -> 0.0046455821 | F41: =VLOOKUP(F$35+$B41/2,femaleTable,4,TRUE) * $B41 -> 0.0055095257 | G41: =VLOOKUP(G$35+$B41/2,femaleTable,4,TRUE) * $B41 -> 0.0065341378 | H41: =VLOOKUP(H$35+$B41/2,femaleTable,4,TRUE) * $B41 -> 0.007749298 | I41: =VLOOKUP(I$35+$B41/2,femaleTable,4,TRUE) * $B41 -> 0.0091904428 | J41: =VLOOKUP(J$35+$B41/2,femaleTable,4,TRUE) * $B41 -> 0.010899599 | ... AB41: =VLOOKUP(AB$35+$B41/2,femaleTable,4,TRUE) * $B41 -> 0.37857441
B42: =B41+1 -> 7 | C42: =VLOOKUP(C$35+$B42/2,femaleTable,4,TRUE) * $B42 -> 0.0038533529 | D42: =VLOOKUP(D$35+$B42/2,femaleTable,4,TRUE) * $B42 -> 0.0045699648 | E42: =VLOOKUP(E$35+$B42/2,femaleTable,4,TRUE) * $B42 -> 0.0054198458 | F42: =VLOOKUP(F$35+$B42/2,femaleTable,4,TRUE) * $B42 -> 0.00642778 | G42: =VLOOKUP(G$35+$B42/2,femaleTable,4,TRUE) * $B42 -> 0.0076231607 | H42: =VLOOKUP(H$35+$B42/2,femaleTable,4,TRUE) * $B42 -> 0.0090408477 | I42: =VLOOKUP(I$35+$B42/2,femaleTable,4,TRUE) * $B42 -> 0.010722183 | J42: =VLOOKUP(J$35+$B42/2,femaleTable,4,TRUE) * $B42 -> 0.012716199 | ... AB42: =VLOOKUP(AB$35+$B42/2,femaleTable,4,TRUE) * $B42 -> 0.44167014
B43: =B42+1 -> 8 | C43: =VLOOKUP(C$35+$B43/2,femaleTable,4,TRUE) * $B43 -> 0.004795874 | D43: =VLOOKUP(D$35+$B43/2,femaleTable,4,TRUE) * $B43 -> 0.0056877675 | E43: =VLOOKUP(E$35+$B43/2,femaleTable,4,TRUE) * $B43 -> 0.0067455274 | F43: =VLOOKUP(F$35+$B43/2,femaleTable,4,TRUE) * $B43 -> 0.008 | G43: =VLOOKUP(G$35+$B43/2,femaleTable,4,TRUE) * $B43 -> 0.0094877681 | H43: =VLOOKUP(H$35+$B43/2,femaleTable,4,TRUE) * $B43 -> 0.011252218 | I43: =VLOOKUP(I$35+$B43/2,femaleTable,4,TRUE) * $B43 -> 0.013344804 | J43: =VLOOKUP(J$35+$B43/2,femaleTable,4,TRUE) * $B43 -> 0.015826551 | ... AB43: =VLOOKUP(AB$35+$B43/2,femaleTable,4,TRUE) * $B43 -> 0.56635663
B44: =B43+1 -> 9 | C44: =VLOOKUP(C$35+$B44/2,femaleTable,4,TRUE) * $B44 -> 0.0053953583 | D44: =VLOOKUP(D$35+$B44/2,femaleTable,4,TRUE) * $B44 -> 0.0063987385 | E44: =VLOOKUP(E$35+$B44/2,femaleTable,4,TRUE) * $B44 -> 0.0075887184 | F44: =VLOOKUP(F$35+$B44/2,femaleTable,4,TRUE) * $B44 -> 0.009 | G44: =VLOOKUP(G$35+$B44/2,femaleTable,4,TRUE) * $B44 -> 0.010673739 | H44: =VLOOKUP(H$35+$B44/2,femaleTable,4,TRUE) * $B44 -> 0.012658745 | I44: =VLOOKUP(I$35+$B44/2,femaleTable,4,TRUE) * $B44 -> 0.015012905 | J44: =VLOOKUP(J$35+$B44/2,femaleTable,4,TRUE) * $B44 -> 0.01780487 | ... AB44: =VLOOKUP(AB$35+$B44/2,femaleTable,4,TRUE) * $B44 -> 0.63715121
B45: =B44+1 -> 10 | C45: =VLOOKUP(C$35+$B45/2,femaleTable,4,TRUE) * $B45 -> 0.0065285211 | D45: =VLOOKUP(D$35+$B45/2,femaleTable,4,TRUE) * $B45 -> 0.0077426368 | E45: =VLOOKUP(E$35+$B45/2,femaleTable,4,TRUE) * $B45 -> 0.0091825428 | F45: =VLOOKUP(F$35+$B45/2,femaleTable,4,TRUE) * $B45 -> 0.01089023 | G45: =VLOOKUP(G$35+$B45/2,femaleTable,4,TRUE) * $B45 -> 0.012915497 | H45: =VLOOKUP(H$35+$B45/2,femaleTable,4,TRUE) * $B45 -> 0.015317405 | I45: =VLOOKUP(I$35+$B45/2,femaleTable,4,TRUE) * $B45 -> 0.018165998 | J45: =VLOOKUP(J$35+$B45/2,femaleTable,4,TRUE) * $B45 -> 0.021544347 | ... AB45: =VLOOKUP(AB$35+$B45/2,femaleTable,4,TRUE) * $B45 -> 0.79432823
B46: =B45+1 -> 11 | C46: =VLOOKUP(C$35+$B46/2,femaleTable,4,TRUE) * $B46 -> 0.0071813733 | D46: =VLOOKUP(D$35+$B46/2,femaleTable,4,TRUE) * $B46 -> 0.0085169005 | E46: =VLOOKUP(E$35+$B46/2,femaleTable,4,TRUE) * $B46 -> 0.010100797 | F46: =VLOOKUP(F$35+$B46/2,femaleTable,4,TRUE) * $B46 -> 0.011979253 | G46: =VLOOKUP(G$35+$B46/2,femaleTable,4,TRUE) * $B46 -> 0.014207046 | H46: =VLOOKUP(H$35+$B46/2,femaleTable,4,TRUE) * $B46 -> 0.016849145 | I46: =VLOOKUP(I$35+$B46/2,femaleTable,4,TRUE) * $B46 -> 0.019982598 | J46: =VLOOKUP(J$35+$B46/2,femaleTable,4,TRUE) * $B46 -> 0.023698782 | ... AB46: =VLOOKUP(AB$35+$B46/2,femaleTable,4,TRUE) * $B46 -> 0.87376106
B47: =B46+1 -> 12 | C47: =VLOOKUP(C$35+$B47/2,femaleTable,4,TRUE) * $B47 -> 0.0085316513 | D47: =VLOOKUP(D$35+$B47/2,femaleTable,4,TRUE) * $B47 -> 0.010118291 | E47: =VLOOKUP(E$35+$B47/2,femaleTable,4,TRUE) * $B47 -> 0.012 | F47: =VLOOKUP(F$35+$B47/2,femaleTable,4,TRUE) * $B47 -> 0.014231652 | G47: =VLOOKUP(G$35+$B47/2,femaleTable,4,TRUE) * $B47 -> 0.016878327 | H47: =VLOOKUP(H$35+$B47/2,femaleTable,4,TRUE) * $B47 -> 0.020017206 | I47: =VLOOKUP(I$35+$B47/2,femaleTable,4,TRUE) * $B47 -> 0.023739827 | J47: =VLOOKUP(J$35+$B47/2,femaleTable,4,TRUE) * $B47 -> 0.028154746 | ... AB47: =VLOOKUP(AB$35+$B47/2,femaleTable,4,TRUE) * $B47 -> 1.0695011
B48: =B47+1 -> 13 | C48: =VLOOKUP(C$35+$B48/2,femaleTable,4,TRUE) * $B48 -> 0.0092426223 | D48: =VLOOKUP(D$35+$B48/2,femaleTable,4,TRUE) * $B48 -> 0.010961482 | E48: =VLOOKUP(E$35+$B48/2,femaleTable,4,TRUE) * $B48 -> 0.013 | F48: =VLOOKUP(F$35+$B48/2,femaleTable,4,TRUE) * $B48 -> 0.015417623 | G48: =VLOOKUP(G$35+$B48/2,femaleTable,4,TRUE) * $B48 -> 0.018284854 | H48: =VLOOKUP(H$35+$B48/2,femaleTable,4,TRUE) * $B48 -> 0.021685307 | I48: =VLOOKUP(I$35+$B48/2,femaleTable,4,TRUE) * $B48 -> 0.025718145 | J48: =VLOOKUP(J$35+$B48/2,femaleTable,4,TRUE) * $B48 -> 0.030500975 | ... AB48: =VLOOKUP(AB$35+$B48/2,femaleTable,4,TRUE) * $B48 -> 1.1586262
... B65: =B64+1 -> 30 | C65: =VLOOKUP(C$35+$B65/2,femaleTable,4,TRUE) * $B65 -> 0.045952214 | D65: =VLOOKUP(D$35+$B65/2,femaleTable,4,TRUE) * $B65 -> 0.054497994 | E65: =VLOOKUP(E$35+$B65/2,femaleTable,4,TRUE) * $B65 -> 0.064633041 | F65: =VLOOKUP(F$35+$B65/2,femaleTable,4,TRUE) * $B65 -> 0.076652913 | G65: =VLOOKUP(G$35+$B65/2,femaleTable,4,TRUE) * $B65 -> 0.090908132 | H65: =VLOOKUP(H$35+$B65/2,femaleTable,4,TRUE) * $B65 -> 0.10781441 | I65: =VLOOKUP(I$35+$B65/2,femaleTable,4,TRUE) * $B65 -> 0.12786476 | J65: =VLOOKUP(J$35+$B65/2,femaleTable,4,TRUE) * $B65 -> 0.1516439 | ... AB65: =VLOOKUP(AB$35+$B65/2,femaleTable,4,TRUE) * $B65 -> 7.5356593
B67: Accuracy
C68: 30 | D68: =C68+2 -> 32 | E68: =D68+2 -> 34 | F68: =E68+2 -> 36 | G68: =F68+2 -> 38 | H68: =G68+2 -> 40 | I68: =H68+2 -> 42 | J68: =I68+2 -> 44 | K68: =J68+2 -> 46 | ... AB68: =AA68+2 -> 80
B69: 1 | C69: =C36/C3-1 -> 0.10103106 | D69: =D36/D3-1 -> 0.082142476 | E69: =E36/E3-1 -> 0.025282693 | F69: =F36/F3-1 -> 0.049567141 | G69: =G36/G3-1 -> 0.063585747 | H69: =H36/H3-1 -> 0.08235236 | I69: =I36/I3-1 -> 0.075707407 | J69: =J36/J3-1 -> 0.04618029 | ... AB69: =AB36/AB3-1 -> 0.12768075
B70: =B69+1 -> 2 | C70: =C37/C4-1 -> 0.18821799 | D70: =D37/D4-1 -> 0.14629268 | E70: =E37/E4-1 -> 0.10984747 | F70: =F37/F4-1 -> 0.077091168 | G70: =G37/G4-1 -> 0.10668073 | H70: =H37/H4-1 -> 0.13091278 | I70: =I37/I4-1 -> 0.10381678 | J70: =J37/J4-1 -> 0.083888255 | ... AB70: =AB37/AB4-1 -> 0.20839809
B71: =B70+1 -> 3 | C71: =C38/C5-1 -> 0.11575397 | D71: =D38/D5-1 -> 0.069174362 | E71: =E38/E5-1 -> 0.056925591 | F71: =F38/F5-1 -> 0.041920844 | G71: =G38/G5-1 -> 0.066970426 | H71: =H38/H5-1 -> 0.079559338 | I71: =I38/I5-1 -> 0.052480008 | J71: =J38/J5-1 -> 0.03336804 | ... AB71: =AB38/AB5-1 -> 0.16569644
B72: =B71+1 -> 4 | C72: =C39/C6-1 -> 0.16137513 | D72: =D39/D6-1 -> 0.12273857 | E72: =E39/E6-1 -> 0.088578687 | F72: =F39/F6-1 -> 0.089822486 | G72: =G39/G6-1 -> 0.11663313 | H72: =H39/H6-1 -> 0.11317915 | I72: =I39/I6-1 -> 0.090348338 | J72: =J39/J6-1 -> 0.079081626 | ... AB72: =AB39/AB6-1 -> 0.25827009
B73: =B72+1 -> 5 | C73: =C40/C7-1 -> 0.087215336 | D73: =D40/D7-1 -> 0.066037654 | E73: =E40/E7-1 -> 0.04456716 | F73: =F40/F7-1 -> 0.049832146 | G73: =G40/G7-1 -> 0.068204629 | H73: =H40/H7-1 -> 0.058850684 | I73: =I40/I7-1 -> 0.037784687 | J73: =J40/J7-1 -> 0.025019488 | ... AB73: =AB40/AB7-1 -> 0.21057436
B74: =B73+1 -> 6 | C74: =C41/C8-1 -> 0.13290858 | D74: =D41/D8-1 -> 0.097102574 | E74: =E41/E8-1 -> 0.088566736 | F74: =F41/F8-1 -> 0.098666072 | G74: =G41/G8-1 -> 0.10486553 | H74: =H41/H8-1 -> 0.095167845 | I74: =I41/I8-1 -> 0.080073479 | J74: =J41/J8-1 -> 0.071645797 | ... AB74: =AB41/AB8-1 -> 0.31048109
B75: =B74+1 -> 7 | C75: =C42/C9-1 -> 0.073114419 | D75: =D42/D9-1 -> 0.048068875 | E75: =E42/E9-1 -> 0.044772603 | F75: =F42/F9-1 -> 0.051714531 | G75: =G42/G9-1 -> 0.051404298 | H75: =H42/H9-1 -> 0.040439277 | I75: =I42/I9-1 -> 0.025258246 | J75: =J42/J9-1 -> 0.02698287 | ... AB75: =AB42/AB9-1 -> 0.26558126
B76: =B75+1 -> 8 | C76: =C43/C10-1 -> 0.10277977 | D76: =D43/D10-1 -> 0.088783484 | E76: =E43/E10-1 -> 0.090571722 | F76: =F43/F10-1 -> 0.089449539 | G76: =G43/G10-1 -> 0.087593781 | H76: =H43/H10-1 -> 0.080010288 | I76: =I43/I10-1 -> 0.068674602 | J76: =J43/J10-1 -> 0.069063653 | ... AB76: =AB43/AB10-1 -> 0.37655464
B77: =B76+1 -> 9 | C77: =C44/C11-1 -> 0.050042358 | D77: =D44/D11-1 -> 0.041621939 | E77: =E44/E11-1 -> 0.04226363 | F77: =F44/F11-1 -> 0.037138064 | G77: =G44/G11-1 -> 0.032825171 | H77: =H44/H11-1 -> 0.023854803 | I77: =I44/I11-1 -> 0.021753801 | J77: =J44/J11-1 -> 0.026373603 | ... AB77: =AB44/AB11-1 -> 0.34172085
B78: =B77+1 -> 10 | C78: =C45/C12-1 -> 0.087877757 | D78: =D45/D12-1 -> 0.084429753 | E78: =E45/E12-1 -> 0.078904113 | F78: =F45/F12-1 -> 0.073057569 | G78: =G45/G12-1 -> 0.070865115 | H78: =H45/H12-1 -> 0.064513199 | I78: =I45/I12-1 -> 0.061740973 | J78: =J45/J12-1 -> 0.073795229 | ... AB78: =AB45/AB12-1 -> 0.47442801
B79: =B78+1 -> 11 | C79: =C46/C13-1 -> 0.037842354 | D79: =D46/D13-1 -> 0.034300454 | E79: =E46/E13-1 -> 0.026087838 | F79: =F46/F13-1 -> 0.018874113 | G79: =G46/G13-1 -> 0.014588559 | H79: =H46/H13-1 -> 0.015566025 | I79: =I46/I13-1 -> 0.0170858 | J79: =J46/J13-1 -> 0.031792889 | ... AB79: =AB46/AB13-1 -> 0.45219667
B80: =B79+1 -> 12 | C80: =C47/C14-1 -> 0.077839194 | D80: =D47/D14-1 -> 0.069217517 | E80: =E47/E14-1 -> 0.060696956 | F80: =F47/F14-1 -> 0.055669674 | G80: =G47/G14-1 -> 0.053268598 | H80: =H47/H14-1 -> 0.05339307 | I80: =I47/I14-1 -> 0.061854973 | J80: =J47/J14-1 -> 0.075600041 | ... AB80: =AB47/AB14-1 -> 0.61360987
B81: =B80+1 -> 13 | C81: =C48/C15-1 -> 0.025899011 | D81: =D48/D15-1 -> 0.015423551 | E81: =E48/E15-1 -> 0.0061932937 | F81: =F48/F15-1 -> -0.00017542709 | G81: =G48/G15-1 -> 0.003403468 | H81: =H48/H15-1 -> 0.0069799118 | I81: =I48/I15-1 -> 0.018340879 | J81: =J48/J15-1 -> 0.026373438 | ... AB81: =AB48/AB15-1 -> 0.60815303
... B98: =B97+1 -> 30 | C98: =C65/C32-1 -> -0.11771038 | D98: =D65/D32-1 -> -0.11582837 | E98: =E65/E32-1 -> -0.11652029 | F98: =F65/F32-1 -> -0.11265924 | G98: =G65/G32-1 -> -0.10661969 | H98: =H65/H32-1 -> -0.10157119 | I98: =I65/I32-1 -> -0.096643978 | J98: =J65/J32-1 -> -0.09473472 | ... AB98: =AB65/AB32-1 -> 6.5360926
